BEGIN:VCALENDAR
VERSION:2.0
PRODID:-//ChamberMaster//Event Calendar 2.0//EN
METHOD:PUBLISH
X-PUBLISHED-TTL:P3D
REFRESH-INTERVAL:P3D
CALSCALE:GREGORIAN
BEGIN:VEVENT
DTSTART:20240502T213000Z
DTEND:20240502T230000Z
X-MICROSOFT-CDO-ALLDAYEVENT:FALSE
SUMMARY:Workbar Small Business Expo
DESCRIPTION:Join us at Workbar Quincy for a Small Biz Expo showcasing our members' amazing businesses. See how Workbar can support your biz! Enjoy a night of networking\, the opportunity to connect with local small business owners\, and get an inside look at Workbar.
X-ALT-DESC;FMTTYPE=text/html:<span style="color:rgb(57\, 54\, 79)\; font-family:neue plak\,-apple-system\,system-ui\,roboto\,helvetica neue\,helvetica\,tahoma\,arial\,sans-serif\; font-size:14px">Join us at Workbar Quincy for a Small Biz Expo showcasing our members&#39\; amazing businesses. See how Workbar can support your biz! Enjoy a night of networking\, the opportunity to connect with local small business owners\, and get an inside look at Workbar.&nbsp\;</span>
LOCATION:Workbar Quincy 100 Hancock St 3rd Floor\, Quincy\, MA 02171
UID:e.2259.3499
SEQUENCE:3
DTSTAMP:20260426T005159Z
URL:https://business.thequincychamber.com/events/details/workbar-small-business-expo-3499
END:VEVENT

END:VCALENDAR
