BEGIN:VCALENDAR
VERSION:2.0
PRODID:-//ChamberMaster//Event Calendar 2.0//EN
METHOD:PUBLISH
X-PUBLISHED-TTL:P3D
REFRESH-INTERVAL:P3D
CALSCALE:GREGORIAN
BEGIN:VEVENT
DTSTART:20211130T150000Z
DTEND:20211130T160000Z
X-MICROSOFT-CDO-ALLDAYEVENT:FALSE
SUMMARY:Winter Street Groundbreaking
DESCRIPTION:Please join us for a groundbreaking ceremony celebrating the creation of 18 units of affordable housing. When: Tuesday\, November 30 | 10:00 AM Where: 54-64 Winter St\, Quincy All are welcome to this free event!
X-ALT-DESC;FMTTYPE=text/html:Please join us for a groundbreaking ceremony celebrating the creation of 18 units of affordable housing. When: Tuesday\, November 30 | 10:00 AM Where: 54-64 Winter St\, Quincy All are welcome to this free event!
LOCATION:54-64 Winter Street\, Quincy
UID:e.2259.3114
SEQUENCE:3
DTSTAMP:20260424T054510Z
URL:https://business.thequincychamber.com/events/details/winter-street-groundbreaking-3114
END:VEVENT

END:VCALENDAR
