BEGIN:VCALENDAR
VERSION:2.0
PRODID:-//ChamberMaster//Event Calendar 2.0//EN
METHOD:PUBLISH
X-PUBLISHED-TTL:P3D
REFRESH-INTERVAL:P3D
CALSCALE:GREGORIAN
BEGIN:VEVENT
DTSTART:20240123T220000Z
DTEND:20240124T000000Z
X-MICROSOFT-CDO-ALLDAYEVENT:FALSE
SUMMARY:Winter After Hours: Norfolk County Sheriff's Office
DESCRIPTION:Enjoy a night of networking\, cocktails\, appetizers\, and mingling at the Norfolk County Sheriff's Office! This is a fantastic chance to socialize while informally forming connections\, creating new leads\, and exchanging ideas with others! \n\n\n\nMembers Free | Non-Members $25\n\n Complimentary appetizers and beverages served.
X-ALT-DESC;FMTTYPE=text/html:<div style="caret-color: rgb(64\, 63\, 66)\; color: rgb(64\, 63\, 66)\; font-family: Arial\, Verdana\, Helvetica\, sans-serif\; font-size: 12px\; white-space: pre-wrap\;"><span style="font-size:18px\;"><span style="font-family:arial\;">Enjoy a night of networking\, cocktails\, appetizers\, and mingling at the Norfolk County Sheriff&#39\;s Office! This is a fantastic chance to socialize while informally forming connections\, creating new leads\, and exchanging ideas with others! </span></span><br />\n<br />\n<span style="font-family:arial\;"><span style="font-size:18px\;">Members Free | Non-Members $25<br />\n<span style="caret-color: rgb(0\, 89\, 115)\; color: rgb(0\, 89\, 115)\; font-style: italic\; font-weight: 700\; white-space: pre-wrap\;">&#65279\;Complimentary appetizers and beverages served.</span></span></span></div>\n
LOCATION:Norfolk County Sheriff's Civil Processing Office 1255 Hancock St. Quincy\, MA 02169
UID:e.2259.3469
SEQUENCE:3
DTSTAMP:20260425T124501Z
URL:https://business.thequincychamber.com/events/details/winter-after-hours-norfolk-county-sheriff-s-office-3469
END:VEVENT

END:VCALENDAR
