BEGIN:VCALENDAR
VERSION:2.0
PRODID:-//ChamberMaster//Event Calendar 2.0//EN
METHOD:PUBLISH
X-PUBLISHED-TTL:P3D
REFRESH-INTERVAL:P3D
CALSCALE:GREGORIAN
BEGIN:VEVENT
DTSTART:20260612T150000Z
DTEND:20260612T150000Z
X-MICROSOFT-CDO-ALLDAYEVENT:FALSE
SUMMARY:SW1 Fest | SecureWon
DESCRIPTION:JOIN US FOR SECUREWON FEST!\n\n\n\nSecureWon is hosting an official ribbon cutting ceremony with Quincy Chamber of Commerce\, Mayor Tom Koch\, and local business leaders\, introducing our new location and strengthening community ties. The event will conclude with a networking reception on the boardwalk\, featuring live music\, food\, and drinks to engage prospects\, clients\, and partners in a relationship-building environment.\n\n	Ribbon Cutting with the Mayor of Quincy \n	Live Music from local band Norwegian Wood\n	Food & Drinks at our new Marina Bay Office\n	Office Tours - see where the magic happens!\n	Networking with local business owners\n\n Is Your Business AI Ready? What You Need to Know in 2026 AI isn't just for big tech - it's already in the tools you use every day. Whether you're ready or not\, AI is happening in your business.\n\n\n\nYour Speakers:\n\nWayne Audette\, Founder & CEO | SecureWon\n\nJulie Christensen\, Director of Client Services | SecureWon\n\n\n\nThis session covers how to use AI securely\, what to watch out for\, and practical first steps. No jargon\, just plain talk for business owners.\n\n\n\nJune 12th 2026\n\nBreakfast Provided 10-11am\n\n308 Victory Road\, Quincy\, MA 02171\n\nReach out anytime at: info@securewon.com\n\nCall us at your convenience: (855) 458-6947\n\nVisit our website: www.securewon.com
X-ALT-DESC;FMTTYPE=text/html:<span style="font-size:22px\;"><span style="color:#FF8C00\;"><em><strong>JOIN US FOR SECUREWON FEST!</strong></em></span></span><br />\n<br />\n<span style="font-size:16px\;">SecureWon is hosting an official <strong>ribbon cutting ceremony </strong>with Quincy Chamber of Commerce\, <strong>Mayor Tom Koch</strong>\, and local business leaders\, introducing our new location and strengthening community ties. The event will conclude with a networking reception on the boardwalk\, featuring live music\, food\, and drinks to engage prospects\, clients\, and partners in a relationship-building environment.</span>\n<ul>\n	<li><span style="font-size:16px\;">Ribbon Cutting with <strong>the Mayor of Quincy&nbsp\;</strong></span></li>\n	<li><span style="font-size:16px\;"><strong>Live Music </strong>from local band <strong>Norwegian Wood</strong></span></li>\n	<li><span style="font-size:16px\;"><strong>Food &amp\; Drinks </strong>at our new <strong>Marina Bay Office</strong></span></li>\n	<li><span style="font-size:16px\;"><strong>Office Tours </strong>- see where the magic happens!</span></li>\n	<li><span style="font-size:16px\;"><strong>Networking </strong>with <strong>local business owners</strong></span></li>\n</ul>\n<span style="font-size:16px\;"><strong>&#8203\;Is Your Business AI Ready?</strong>&nbsp\;What You Need to Know in 2026 AI isn&#39\;t just for big tech - it&#39\;s already in the tools you use every day. Whether you&#39\;re ready or not\, AI is happening in your business.<br />\n<br />\n<strong>Your Speakers:</strong><br />\nWayne Audette\, Founder &amp\; CEO | SecureWon<br />\nJulie Christensen\, Director of Client Services&nbsp\;| SecureWon<br />\n<br />\nThis session covers how to use AI securely\, what to watch out for\, and practical first steps. No jargon\, just plain talk for business owners.<br />\n<br />\nJune 12th 2026<br />\nBreakfast Provided 10-11am<br />\n308 Victory Road\, Quincy\, MA 02171<br />\nReach out anytime at: info@securewon.com<br />\nCall us at your convenience: (855) 458-6947<br />\nVisit our website: www.securewon.com</span>
LOCATION:308 Victory Road\, Quincy\, MA 02171
UID:e.2259.3740
SEQUENCE:3
DTSTAMP:20260423T210821Z
URL:https://business.thequincychamber.com/events/details/sw1-fest-securewon-3740
END:VEVENT

END:VCALENDAR
