BEGIN:VCALENDAR
VERSION:2.0
PRODID:-//ChamberMaster//Event Calendar 2.0//EN
METHOD:PUBLISH
X-PUBLISHED-TTL:P3D
REFRESH-INTERVAL:P3D
CALSCALE:GREGORIAN
BEGIN:VEVENT
DTSTART:20230727T213000Z
DTEND:20230727T230000Z
X-MICROSOFT-CDO-ALLDAYEVENT:FALSE
SUMMARY:Summer Business After Hours: Merrill Lynch
DESCRIPTION:The team at Merrill Lynch Wealth Management / Langan Murtagh Group is looking forward to hosting you at their beautiful office in Hingham for a night of networking\, drinks appetizers and socializing! This is a great opportunity to casually build connections\, develop new leads and exchange ideas with individuals while socializing!\n\n\n\nMembers Free | Non-Members $25\n\n Complimentary appetizers and refreshments served.
X-ALT-DESC;FMTTYPE=text/html:<div style="caret-color: rgb(64\, 63\, 66)\; color: rgb(64\, 63\, 66)\; font-family: Arial\, Verdana\, Helvetica\, sans-serif\; font-size: 12px\; white-space: pre-wrap\;"><span style="font-family: Arial\, Verdana\, Helvetica\, sans-serif\; white-space: pre-wrap\; font-size: 14px\; color: rgb(0\, 0\, 0)\;">The team at Merrill Lynch Wealth Management / Langan Murtagh Group is looking forward to hosting you at their beautiful office in Hingham for a night of networking\, drinks appetizers and socializing! This is a great opportunity to casually build connections\, develop new leads and exchange ideas with individuals while socializing!</span><br />\n<br />\nMembers Free | Non-Members $25<br />\n<span style="caret-color: rgb(0\, 89\, 115)\; color: rgb(0\, 89\, 115)\; font-family: Arial\, Verdana\, Helvetica\, sans-serif\; font-size: 10px\; font-style: italic\; font-weight: 700\; white-space: pre-wrap\;">&#65279\;Complimentary appetizers and refreshments served.</span></div>\n
LOCATION:Merrill Lynch Wealth Management Langan Murtagh Group 101 Derby Street Hingham\, MA
UID:e.2259.3424
SEQUENCE:3
DTSTAMP:20260425T001117Z
URL:https://business.thequincychamber.com/events/details/summer-business-after-hours-merrill-lynch-3424
END:VEVENT

END:VCALENDAR
