BEGIN:VCALENDAR
VERSION:2.0
PRODID:-//ChamberMaster//Event Calendar 2.0//EN
METHOD:PUBLISH
X-PUBLISHED-TTL:P3D
REFRESH-INTERVAL:P3D
CALSCALE:GREGORIAN
BEGIN:VEVENT
DTSTART:20230817T210000Z
DTEND:20230817T230000Z
X-MICROSOFT-CDO-ALLDAYEVENT:FALSE
SUMMARY:Summer After Hours: Best Western Adams Inn
DESCRIPTION:Summer Business After Hours\n\nThursday\, August 17th\n\n5:00pm - 7:00pm\n\nBest Western Adams Inn at the Gazebo \n\n29 Hancock Street\, Quincy\n\n\n\nCome join us for a great evening of networking and mingling on a summer night at the Gazebo at the Best Western Adams Inn.  \n\n\n\nComplimentary  appetizers\, a cash bar\, outdoor summer games\, property tours\, and the opportunity to meet and greet some BW executive leaders.\n\n\n\nMembers FREE / Non-Members $25
X-ALT-DESC;FMTTYPE=text/html:<div helvetica=""><span style="font-size:36px\;">Summer Business After Hours</span></div>\n\n<div helvetica=""><span style="font-size:18px\;">Thursday\, August 17th</span></div>\n\n<div helvetica=""><span style="font-size:12px\;"><span style="font-size:16px\;">5:00pm - 7:00pm</span></span></div>\n\n<div helvetica=""><span style="font-size:12px\;">Best Western Adams Inn at the Gazebo </span><br />\n<span style="font-size:12px\;">29 Hancock Street\, Quincy<br />\n<br />\n<span style="font-size:18px\;">Come join us for a great evening of networking and mingling on a summer night at the Gazebo at the Best Western Adams Inn.&nbsp\; </span></span><br />\n<br />\n<span style="font-size:12px\;"><i>Complimentary&nbsp\;</i> appetizers\, a cash bar\, outdoor summer games\, property tours\, and the opportunity to meet and greet some BW executive leaders.<br />\n<br />\nMembers FREE / Non-Members $25</span></div>\n
LOCATION:Best Western Adams Inn Quincy 29 Hancock Street Quincy\, MA
UID:e.2259.3427
SEQUENCE:3
DTSTAMP:20260424T225623Z
URL:https://business.thequincychamber.com/events/details/summer-after-hours-best-western-adams-inn-3427
END:VEVENT

END:VCALENDAR
