BEGIN:VCALENDAR
VERSION:2.0
PRODID:-//ChamberMaster//Event Calendar 2.0//EN
METHOD:PUBLISH
X-PUBLISHED-TTL:P3D
REFRESH-INTERVAL:P3D
CALSCALE:GREGORIAN
BEGIN:VEVENT
DTSTART:20260423T210000Z
DTEND:20260423T230000Z
X-MICROSOFT-CDO-ALLDAYEVENT:FALSE
SUMMARY:Spring After Hours: Sly Fox Tavern
DESCRIPTION:Spring After-Hours at Sly Fox Tavern\n\n  139 Copeland Street\, Quincy\, MA 02169\n\n   Thursday\, April 23\, 2026 |   5:00 7:00 PM\n\nCelebrate the season with an evening of networking\, fresh flavors\, and great company at Sly Fox Tavern\, a lively neighborhood tavern located in West Quincy.      \n\nThey say\, if you want a proper Guinness get it from an Irishman. At Sly Fox Tavern in Quincy\, the McKenna family would be happy to welcome them to your second home.  \n\nJoin fellow Chamber members and local professionals for a casual evening of connection and community. Enjoy complimentary appetizers and a cash bar while expanding your network and supporting a fantastic local restaurant.    \n\nEvent Details:\n\n  139 Copeland Street\, Quincy\, MA 02169\n\n  Complimentary appetizers & cash bar\n\n  Free for Chamber Members | $15 for Non-Members\n\nSpace is limited   registration is encouraged!\n\nLearn more about Sly Fox Tavern & Check our their Menu: https://www.slyfoxtavern.com/menu
X-ALT-DESC;FMTTYPE=text/html:<div style="">\n<p data-end="78" data-start="0"><span style="font-size:20px\;"><strong data-end="56" data-start="0">Spring After-Hours at Sly Fox Tavern</strong></span><br data-end="59" data-start="56" />\n<span style="font-family:arial\;">&#128205\; 139 Copeland Street\, Quincy\, MA 02169<br data-end="102" data-start="99" />\n&#128467\;&#65039\; Thursday\, April 23\, 2026 | &#128340\; 5:00&ndash\;7:00 PM</span></p>\n\n<p data-end="330" data-start="151"><span style="font-family:arial\;">Celebrate the season with an evening of networking\, fresh flavors\, and great company at Sly Fox Tavern\, a lively neighborhood tavern located in West Quincy. &#127866\; &#127829\; &#127828\;</span></p>\n\n<p data-end="716" data-start="332"><span style="color: rgb(51\, 51\, 51)\; font-size: 13px\; background-color: rgb(255\, 255\, 255)\;">They say\, if you want a proper Guinness get it from an Irishman. At Sly Fox Tavern in Quincy\, the McKenna family would be happy to welcome them to your second home.</span><span style="font-size:14px\;">&#9752\;&#65039\;</span></p>\n\n<p data-end="955" data-start="728"><span style="font-family:arial\;">Join fellow Chamber members and local professionals for a casual evening of connection and community. Enjoy complimentary appetizers and a cash bar while expanding your network and supporting a fantastic local restaurant. &#129309\;&#127869\;&#65039\;</span></p>\n\n<p data-end="1113" data-start="957"><span style="font-family:arial\;"><strong data-end="975" data-start="957">Event Details:</strong><br data-end="978" data-start="975" />\n&#128205\; 139 Copeland&nbsp\;Street\, Quincy\, MA 02169<br data-end="1021" data-start="1018" />\n&#127860\; Complimentary appetizers &amp\; cash bar<br data-end="1062" data-start="1059" />\n&#128181\; Free for Chamber Members | $15 for Non-Members</span></p>\n\n<p data-end="1161" data-is-last-node="" data-is-only-node="" data-start="1115"><span style="font-family:arial\;">Space is limited &mdash\; registration is encouraged!</span></p>\n\n<p data-end="78" data-start="0"><span style="font-family:arial\;">Learn more about Sly Fox Tavern&nbsp\;&amp\; Check our their Menu:&nbsp\;<a href="https://www.slyfoxtavern.com/menu">https://www.slyfoxtavern.com/menu</a></span></p>\n</div>\n
LOCATION:
UID:e.2259.3702
SEQUENCE:3
DTSTAMP:20260422T134251Z
URL:https://business.thequincychamber.com/events/details/spring-after-hours-sly-fox-tavern-3702
END:VEVENT

END:VCALENDAR
