BEGIN:VCALENDAR
VERSION:2.0
PRODID:-//ChamberMaster//Event Calendar 2.0//EN
METHOD:PUBLISH
X-PUBLISHED-TTL:P3D
REFRESH-INTERVAL:P3D
CALSCALE:GREGORIAN
BEGIN:VEVENT
DTSTART:20260409T210000Z
DTEND:20260409T230000Z
X-MICROSOFT-CDO-ALLDAYEVENT:FALSE
SUMMARY:Spring After Hours: Drifters Kitchen & Bar
DESCRIPTION:Spring After-Hours at Drifters Kitchen & Bar\n\n  1464 Hancock Street\, Quincy\, MA 02169\n\n   Thursday\, April 9\, 2026 |   5:00 7:00 PM\n\nCelebrate the season with an evening of networking\, fresh flavors\, and great company at Drifters Kitchen & Bar\, a lively neighborhood tavern located in the heart of Quincy Center.      \n\nKnown for having something for everyone\, Drifters offers a welcoming atmosphere paired with crave-worthy specials   including $1 oysters four nights a week\, half-priced appetizers on Friday afternoons\, and kids 12 and under eat free every Monday. Whether you're stopping in for seafood\, comfort favorites\, or a handcrafted drink\, Drifters delivers a fun and relaxed dining experience!\n\nJoin fellow Chamber members and local professionals for a casual evening of connection and community. Enjoy complimentary appetizers and a cash bar while expanding your network and supporting a fantastic local restaurant.    \n\nEvent Details:\n\n  1464 Hancock Street\, Quincy\, MA 02169\n\n  Complimentary appetizers & cash bar\n\n  Free for Chamber Members | $15 for Non-Members\n\nSpace is limited   registration is encouraged!\n\nLearn more about Drifters & Check our their Menu: https://driftersquincy.com/
X-ALT-DESC;FMTTYPE=text/html:<div style="">\n<p data-end="78" data-start="0"><span style="font-size:20px\;"><strong data-end="56" data-start="0">Spring After-Hours at Drifters Kitchen &amp\; Bar</strong></span><br data-end="59" data-start="56" />\n&#128205\; 1464 Hancock Street\, Quincy\, MA 02169<br data-end="102" data-start="99" />\n&#128467\;&#65039\; Thursday\, April 9\, 2026 | &#128340\; 5:00&ndash\;7:00 PM</p>\n\n<p data-end="330" data-start="151">Celebrate the season with an evening of networking\, fresh flavors\, and great company at Drifters Kitchen &amp\; Bar\, a lively neighborhood tavern located in the heart of Quincy Center.&nbsp\;&#127866\; &#127829\; &#127828\;</p>\n\n<p data-end="716" data-start="332">Known for having something for everyone\, Drifters offers a welcoming atmosphere paired with crave-worthy specials &mdash\; including $1 oysters four nights a week\, half-priced appetizers on Friday afternoons\, and kids 12 and under eat free every Monday. Whether you&#39\;re stopping in for seafood\, comfort favorites\, or a handcrafted drink\, Drifters delivers a fun and relaxed dining experience!</p>\n\n<p data-end="955" data-start="728">Join fellow Chamber members and local professionals for a casual evening of connection and community. Enjoy complimentary appetizers and a cash bar while expanding your network and supporting a fantastic local restaurant. &#129309\;&#127869\;&#65039\;</p>\n\n<p data-end="1113" data-start="957"><strong data-end="975" data-start="957">Event Details:</strong><br data-end="978" data-start="975" />\n&#128205\; 1464 Hancock Street\, Quincy\, MA 02169<br data-end="1021" data-start="1018" />\n&#127860\; Complimentary appetizers &amp\; cash bar<br data-end="1062" data-start="1059" />\n&#128181\; Free for Chamber Members | $15 for Non-Members</p>\n\n<p data-end="1161" data-is-last-node="" data-is-only-node="" data-start="1115">Space is limited &mdash\; registration is encouraged!</p>\n\n<p data-end="78" data-start="0">Learn more about Drifters &amp\; Check our their Menu:&nbsp\;<em><a href="https://driftersquincy.com/"><span style="color:#0000CD\;">https://driftersquincy.com/&nbsp\;</span></a></em></p>\n</div>\n
LOCATION:
UID:e.2259.3700
SEQUENCE:3
DTSTAMP:20260422T134541Z
URL:https://business.thequincychamber.com/events/details/spring-after-hours-drifters-kitchen-bar-3700
END:VEVENT

END:VCALENDAR
