BEGIN:VCALENDAR
VERSION:2.0
PRODID:-//ChamberMaster//Event Calendar 2.0//EN
METHOD:PUBLISH
X-PUBLISHED-TTL:P3D
REFRESH-INTERVAL:P3D
CALSCALE:GREGORIAN
BEGIN:VEVENT
DTSTART:20221027T113000Z
DTEND:20221027T210000Z
X-MICROSOFT-CDO-ALLDAYEVENT:FALSE
SUMMARY:South Shore Conference for Women
DESCRIPTION:Join the energy of local women at the 4th Annual South Shore Conference for Women where we highlight local experts and connect local women for a full-day affordable $52 conference. The day includes breakfast\, lunch and complementary wine and hors d'oeuvres at an afternoon celebration! Learn more here: www.sheslocal.org/south-shore
X-ALT-DESC;FMTTYPE=text/html:Join the energy of local women at the 4th Annual South Shore Conference for Women where we highlight local experts and connect local women for a full-day affordable $52 conference. The day includes breakfast\, lunch and complementary wine and hors d&#39\;oeuvres at an afternoon celebration! Learn more here: www.sheslocal.org/south-shore
LOCATION:Quincy Marriott
UID:e.2259.3344
SEQUENCE:3
DTSTAMP:20260422T231438Z
URL:https://business.thequincychamber.com/events/details/south-shore-conference-for-women-3344
END:VEVENT

END:VCALENDAR
