BEGIN:VCALENDAR
VERSION:2.0
PRODID:-//ChamberMaster//Event Calendar 2.0//EN
METHOD:PUBLISH
X-PUBLISHED-TTL:P3D
REFRESH-INTERVAL:P3D
CALSCALE:GREGORIAN
BEGIN:VEVENT
DTSTART:20230928T220000Z
DTEND:20230929T010000Z
X-MICROSOFT-CDO-ALLDAYEVENT:FALSE
SUMMARY:Shine Under the Stars Gala
DESCRIPTION:Celebrate with us at the 2023 Shine Under the Stars Gala on September 28 at Break Rock Brewery in Marina Bay\, Quincy! With DJ Silent Partner\, hosts Annie Dow and Kennedy Elsey of Mix 104.1\, awesome raffle and silent auction prizes\, and delicious catered food from Victory Point\, Boardwalk Pizza\, Konditor Meister and Montillios\, you won't want to miss this night. Your $70 ticket includes a free drink token and raffle ticket to get the party started! The true gift\, of course\, is an opportunity to hear from some of our STAR children and their families. Join us\, and be part of raising vital funds to help local families facing childhood cancer. Let's "Shine under the Stars" to help families facing childhood cancer. Shine for someone you love...someone you lost...something you believe in. Dress is casual or cocktail--but we'll be giving out prizes for those best dressed to shine in silver\, gold\, sparkles or stars! ****** This Star Won't Go Out began in 2011 and honors local Quincy teen Esther Grace Earl\, whose journey with cancer inspired the best selling novel and blockbuster movie "The Fault in Our Stars." Your generosity helps TSWGO give grants directly to local families facing pediatric cancer to help with cost of living expenses including housing\, utilities\, and transportation.
X-ALT-DESC;FMTTYPE=text/html:Celebrate with us at the 2023 Shine Under the Stars Gala on September 28 at Break Rock Brewery in Marina Bay\, Quincy! With DJ Silent Partner\, hosts Annie Dow and Kennedy Elsey of Mix 104.1\, awesome raffle and silent auction prizes\, and delicious catered food from Victory Point\, Boardwalk Pizza\, Konditor Meister and Montillios\, you won&#39\;t want to miss this night. Your $70 ticket includes a free drink token and raffle ticket to get the party started! The true gift\, of course\, is an opportunity to hear from some of our STAR children and their families. Join us\, and be part of raising vital funds to help local families facing childhood cancer. Let&#39\;s &quot\;Shine under the Stars&quot\; to help families facing childhood cancer. Shine for someone you love...someone you lost...something you believe in. Dress is casual or cocktail--but we&#39\;ll be giving out prizes for those best dressed to shine in silver\, gold\, sparkles or stars! ****** This Star Won&#39\;t Go Out began in 2011 and honors local Quincy teen Esther Grace Earl\, whose journey with cancer inspired the best selling novel and blockbuster movie &quot\;The Fault in Our Stars.&quot\; Your generosity helps TSWGO give grants directly to local families facing pediatric cancer to help with cost of living expenses including housing\, utilities\, and transportation.
LOCATION:Break Rock Brewing at Marina Bay
UID:e.2259.3433
SEQUENCE:3
DTSTAMP:20260424T214612Z
URL:https://business.thequincychamber.com/events/details/shine-under-the-stars-gala-09-28-2023-3433
END:VEVENT

END:VCALENDAR
