BEGIN:VCALENDAR
VERSION:2.0
PRODID:-//ChamberMaster//Event Calendar 2.0//EN
METHOD:PUBLISH
X-PUBLISHED-TTL:P3D
REFRESH-INTERVAL:P3D
CALSCALE:GREGORIAN
BEGIN:VEVENT
DTSTART:20251112T210000Z
DTEND:20251112T210000Z
X-MICROSOFT-CDO-ALLDAYEVENT:FALSE
SUMMARY:Ribbon Cutting Ceremony: The Meadow Style
DESCRIPTION:Ribbon Cutting Celebration for The Meadow Style with Quincy Mayor Thomas P. Koch\n\n\n\nJoin us as we celebrate The Meadow Style Boutique\, a thoughtfully curated boutique offering effortless style with a modern boho spirit\, located in Quincy area!\n\n\n\n  Date: Wednesday\, November 12th\n\n  Time: 4:00 PM\n\n  Location: 222 Sea Street\, Quincy\, 02169\nLearn more about The Meadow Style\, and the clothing they have here:\n\nhttps://meadowstyle.company.site/\n\nLet's show our support for this amazing local business!\n\n \n\nAbout The Meadow Style.\n"Hey everyone\, I'm Megan a fashion designer and stylist with a love for vintage fabrics and timeless style. Meadow is a collection of all my favorite things - small\, curated collections of effortless silhouettes\, accessories\, and a touch of modern boho spirit.\n\nEvery item is chosen with care to create an easy\, elevated look that feels personal and unique. My goal is to offer the ultimate styling and boutique experience\, helping you discover pieces that fit your lifestyle\, tell your story and leaving you feeling the best version of yourself. From our collections\, to our dreamy new fragrance line\, everything here is about celebrating individual style - grounded\, thoughtful and effortlessly beautiful."
X-ALT-DESC;FMTTYPE=text/html:Ribbon Cutting Celebration for The Meadow Style with Quincy Mayor Thomas P. Koch<br />\n<br />\nJoin us as we celebrate The Meadow Style Boutique\, a thoughtfully curated boutique offering effortless style with a modern boho spirit\, located in Quincy area!<br />\n<br />\n&#128197\;&nbsp\;<strong data-end="303" data-start="294">Date:</strong>&nbsp\;Wednesday\, November 12th<br data-end="329" data-start="326" />\n&#128345\;&nbsp\;<strong data-end="341" data-start="332">Time:</strong>&nbsp\;4:00 PM<br data-end="353" data-start="350" />\n&#128205\;&nbsp\;<strong data-end="369" data-start="356">Location:</strong>&nbsp\;222 Sea Street\, Quincy\, 02169\n<p data-end="673" data-start="419">Learn more about The Meadow Style\,&nbsp\;and the clothing&nbsp\;they have&nbsp\;here:<br />\n<a href="https://meadowstyle.company.site/">https://meadowstyle.company.site/</a><a class="decorated-link" data-end="801" data-start="748" href="https://rosescleaninginc.com/" rel="noopener" target="_new"><span aria-hidden="true" class="ms-0.5 inline-block align-middle leading-none"><svg class="block h-[0.75em] w-[0.75em] stroke-current stroke-[0.75]" data-rtl-flip="" fill="currentColor" height="20" viewbox="0 0 20 20" width="20" xmlns="http://www.w3.org/2000/svg"><path d="M14.3349 13.3301V6.60645L5.47065 15.4707C5.21095 15.7304 4.78895 15.7304 4.52925 15.4707C4.26955 15.211 4.26955 14.789 4.52925 14.5293L13.3935 5.66504H6.66011C6.29284 5.66504 5.99507 5.36727 5.99507 5C5.99507 4.63273 6.29284 4.33496 6.66011 4.33496H14.9999L15.1337 4.34863C15.4369 4.41057 15.665 4.67857 15.665 5V13.3301C15.6649 13.6973 15.3672 13.9951 14.9999 13.9951C14.6327 13.9951 14.335 13.6973 14.3349 13.3301Z"></path></svg></span></a></p>\n\n<p data-end="865" data-start="805">Let&rsquo\;s show our support for this amazing local business!<br />\n&nbsp\;</p>\n\n<h2 style="font-weight: 700\; line-height: 1em\; color: rgb(0\, 0\, 0)\; font-family: &quot\;Lexend Deca&quot\;\, Helvetica\, Arial\, Lucida\, sans-serif\; background: transparent\; box-sizing: border-box\; margin: 0px\; padding: 0px 0px 10px\; border: 0px\; outline: 0px\; font-size: 49px\; text-size-adjust: 100%\; vertical-align: baseline\;">About The Meadow Style.</h2>\n&quot\;Hey everyone\, I&#39\;m Megan a fashion designer and stylist with a love for vintage fabrics and timeless style. Meadow is a collection of all my favorite things - small\, curated collections of effortless silhouettes\, accessories\, and a touch of modern boho spirit.<br />\nEvery item is chosen with care to create an easy\, elevated look that feels personal and unique. My goal is to offer the ultimate styling and boutique experience\, helping you discover pieces that fit your lifestyle\, tell your story and leaving you feeling the best version of yourself. From our collections\, to our dreamy new fragrance line\, everything here is about celebrating individual style - grounded\, thoughtful and effortlessly beautiful.&quot\;
LOCATION:222 Sea Street\, Quincy\, 02169
UID:e.2259.3664
SEQUENCE:3
DTSTAMP:20260420T014922Z
URL:https://business.thequincychamber.com/events/details/ribbon-cutting-ceremony-the-meadow-style-3664
END:VEVENT

END:VCALENDAR
