BEGIN:VCALENDAR
VERSION:2.0
PRODID:-//ChamberMaster//Event Calendar 2.0//EN
METHOD:PUBLISH
X-PUBLISHED-TTL:P3D
REFRESH-INTERVAL:P3D
CALSCALE:GREGORIAN
BEGIN:VEVENT
DTSTART:20251113T200000Z
DTEND:20251113T200000Z
X-MICROSOFT-CDO-ALLDAYEVENT:FALSE
SUMMARY:Ribbon Cutting Ceremony: Boston Budget Plumbing
DESCRIPTION:Ribbon Cutting Celebration for Boston Budget Pluming with Quincy Mayor Thomas P. Koch\n\n\n\nJoin us as we celebrate Boston Budget Plumbing\, a trusted provider of plumbing and HVAC services in the South Shore and Greater Boston area!\n\n\n\n  Date: Thursday\, November 13th\n\n  Time: 3:00 PM\n\n  Location: 244 Willard Street\, Quincy\, 02169\nLearn more about Boston Budget Plumbing\, and the services they offer here:\n\nhttps://bostonbudgetplumbing.com/?gad_source=1&gad_campaignid=331693857&gbraid=0AAAAADj5fMfm97rumsGhgkEhG7t9myKBY&gclid=CjwKCAiAzrbIBhA3EiwAUBaUdZaPhIQLR0ytNacc9qwP9D3hXGq-BnScb4-5T4UFLHOfZQqzznrCfRoCI-sQAvD_BwE\n\nLet's show our support for this amazing local business!\n\n\n\nAbout Boston Budget Plumbing.\n\n \n"At Boston Budget\, we're not just here to fix leaks and install heaters\, we're here to help families. That means doing the right thing\, whether it's for our customers or our team. We take care of our employees\, helping them build skills and careers\, because when you take care of people\, they do great work. And that's exactly what we bring to every home we service.\n\nWe're not a corporate giant we're a company owned by three friends\, Tom\, Maribel\, and Daniel\, who are dedicated to changing the trades for the better. By hiring great technicians\, training them\, and helping attract the next generation of professionals\, we're ensuring that customers get the level of service they deserve.\n\nWhen you call us\, you're getting a team that treats your home like it's our own. That means fair pricing\, honest advice\, and work done right the first time. Our trucks are stocked\, our technicians know their stuff\, and we'll always call you back. You'll also speak with people who care whether it's Bobbi Jo\, our dispatch manager\, or Alexandria\, one of our awesome customer representatives.\n\nNo sloppy work\, no shady practices just solid service from people who care. And if we screw up\, we own it and make it right.  So whether you've got a plumbing emergency\, a heating issue\, or just need routine maintenance\, we're here to help. Because keeping your home safe\, comfortable\, and running smoothly isn't just a job to us it's what we'd want for our own families."
X-ALT-DESC;FMTTYPE=text/html:Ribbon Cutting Celebration for Boston Budget Pluming with Quincy Mayor Thomas P. Koch<br />\n<br />\nJoin us as we celebrate Boston Budget Plumbing\, a trusted provider of plumbing and HVAC services in the South Shore and Greater Boston area!<br />\n<br />\n&#128197\;&nbsp\;<strong data-end="303" data-start="294">Date:</strong>&nbsp\;Thursday\, November 13th<br data-end="329" data-start="326" />\n&#128345\;&nbsp\;<strong data-end="341" data-start="332">Time:</strong>&nbsp\;3:00 PM<br data-end="353" data-start="350" />\n&#128205\;&nbsp\;<strong data-end="369" data-start="356">Location:</strong>&nbsp\;244 Willard Street\, Quincy\, 02169\n<p data-end="673" data-start="419">Learn more about Boston Budget Plumbing\,&nbsp\;and the services&nbsp\;they offer&nbsp\;here:<br />\n<a href="https://bostonbudgetplumbing.com/?gad_source=1&amp\;gad_campaignid=331693857&amp\;gbraid=0AAAAADj5fMfm97rumsGhgkEhG7t9myKBY&amp\;gclid=CjwKCAiAzrbIBhA3EiwAUBaUdZaPhIQLR0ytNacc9qwP9D3hXGq-BnScb4-5T4UFLHOfZQqzznrCfRoCI-sQAvD_BwE">https://bostonbudgetplumbing.com/?gad_source=1&amp\;gad_campaignid=331693857&amp\;gbraid=0AAAAADj5fMfm97rumsGhgkEhG7t9myKBY&amp\;gclid=CjwKCAiAzrbIBhA3EiwAUBaUdZaPhIQLR0ytNacc9qwP9D3hXGq-BnScb4-5T4UFLHOfZQqzznrCfRoCI-sQAvD_BwE</a><a class="decorated-link" data-end="801" data-start="748" href="https://rosescleaninginc.com/" rel="noopener" target="_new"><span aria-hidden="true" class="ms-0.5 inline-block align-middle leading-none"><svg class="block h-[0.75em] w-[0.75em] stroke-current stroke-[0.75]" data-rtl-flip="" fill="currentColor" height="20" viewbox="0 0 20 20" width="20" xmlns="http://www.w3.org/2000/svg"><path d="M14.3349 13.3301V6.60645L5.47065 15.4707C5.21095 15.7304 4.78895 15.7304 4.52925 15.4707C4.26955 15.211 4.26955 14.789 4.52925 14.5293L13.3935 5.66504H6.66011C6.29284 5.66504 5.99507 5.36727 5.99507 5C5.99507 4.63273 6.29284 4.33496 6.66011 4.33496H14.9999L15.1337 4.34863C15.4369 4.41057 15.665 4.67857 15.665 5V13.3301C15.6649 13.6973 15.3672 13.9951 14.9999 13.9951C14.6327 13.9951 14.335 13.6973 14.3349 13.3301Z"></path></svg></span></a></p>\n\n<p data-end="865" data-start="805">Let&rsquo\;s show our support for this amazing local business!<br />\n<br />\n<span style="font-size: 48px\;"><b>About Boston Budget Plumbing.</b></span><br />\n&nbsp\;</p>\n&quot\;At Boston Budget\, we&#39\;re not just here to fix leaks and install heaters\, we&rsquo\;re here to help families. That means doing the right thing\, whether it&rsquo\;s for our customers or our team. We take care of our employees\, helping them build skills and careers\, because when you take care of people\, they do great work. And that&rsquo\;s exactly what we bring to every home we service.<br />\nWe&rsquo\;re not a corporate giant&mdash\;we&rsquo\;re a company owned by three friends\, Tom\, Maribel\, and Daniel\, who are dedicated to changing the trades for the better. By hiring great technicians\, training them\, and helping attract the next generation of professionals\, we&rsquo\;re ensuring that customers get the level of service they deserve.<br />\nWhen you call us\, you&rsquo\;re getting a team that treats your home like it&rsquo\;s our own. That means fair pricing\, honest advice\, and work done right the first time. Our trucks are stocked\, our technicians know their stuff\, and we&rsquo\;ll always call you back. You&rsquo\;ll also speak with people who care&mdash\;whether it&rsquo\;s Bobbi Jo\, our dispatch manager\, or Alexandria\, one of our awesome customer representatives.<br />\nNo sloppy work\, no shady practices&mdash\;just solid service from people who care. And if we screw up\, we own it and make it right.&#8232\;&#8232\;So whether you&rsquo\;ve got a plumbing emergency\, a heating issue\, or just need routine maintenance\, we&rsquo\;re here to help. Because keeping your home safe\, comfortable\, and running smoothly isn&rsquo\;t just a job to us&mdash\;it&rsquo\;s what we&rsquo\;d want for our own families.&quot\;
LOCATION:244 Willard Street\, Quincy\, 02169
UID:e.2259.3665
SEQUENCE:3
DTSTAMP:20260420T015657Z
URL:https://business.thequincychamber.com/events/details/ribbon-cutting-ceremony-boston-budget-plumbing-3665
END:VEVENT

END:VCALENDAR
