BEGIN:VCALENDAR
VERSION:2.0
PRODID:-//ChamberMaster//Event Calendar 2.0//EN
METHOD:PUBLISH
X-PUBLISHED-TTL:P3D
REFRESH-INTERVAL:P3D
CALSCALE:GREGORIAN
BEGIN:VEVENT
DTSTART:20210807T160000Z
DTEND:20210807T200000Z
X-MICROSOFT-CDO-ALLDAYEVENT:FALSE
SUMMARY:Quincy Square Market
DESCRIPTION:We are excited to bring pop-up vendors\, local artisans and specialty shops to Kilroy Square every Saturday this Summer ending early Fall. You can browse and shop the courtyard filled with many of our popular and new vendors! We hope to see you there! \n\n \n\nShop Local Support Local
X-ALT-DESC;FMTTYPE=text/html:<div style="caret-color: rgb(64\, 63\, 66)\; color: rgb(64\, 63\, 66)\; font-family: Arial\, Verdana\, Helvetica\, sans-serif\; font-size: 12px\;"><span style="font-size: 14px\; color: rgb(0\, 0\, 0)\;">We are excited to bring pop-up vendors\, local artisans and specialty shops to Kilroy Square every Saturday this Summer ending early Fall. You can browse and shop the courtyard filled with many of our popular and new vendors! We hope to see you there!&nbsp\;</span></div>\n\n<div style="caret-color: rgb(64\, 63\, 66)\; color: rgb(64\, 63\, 66)\; font-family: Arial\, Verdana\, Helvetica\, sans-serif\; font-size: 12px\;">&nbsp\;</div>\n\n<div style="caret-color: rgb(64\, 63\, 66)\; color: rgb(64\, 63\, 66)\; font-family: Arial\, Verdana\, Helvetica\, sans-serif\; font-size: 12px\;"><span style="font-size: 16px\; color: rgb(137\, 173\, 19)\; font-weight: bold\;">Shop Local Support Local</span></div>\n
LOCATION:Kilroy Square 25 Cottage Avenue (next to The Fours)
UID:e.2259.3087
SEQUENCE:3
DTSTAMP:20260424T032157Z
URL:https://business.thequincychamber.com/events/details/quincy-square-market-08-07-2021-3087
END:VEVENT

END:VCALENDAR
