BEGIN:VCALENDAR
VERSION:2.0
PRODID:-//ChamberMaster//Event Calendar 2.0//EN
METHOD:PUBLISH
X-PUBLISHED-TTL:P3D
REFRESH-INTERVAL:P3D
CALSCALE:GREGORIAN
BEGIN:VEVENT
DTSTART:20231005T213000Z
DTEND:20231005T233000Z
X-MICROSOFT-CDO-ALLDAYEVENT:FALSE
SUMMARY:Quincy’s Women’s Leadership Network Event
DESCRIPTION:A Financial Literacy Discussion\n\n \n\nPlease join the Quincy Women Leadership Network for our Panel of Experts to learn the five principles of financial literacy: earning\, saving\, borrowing\, spending and protecting assets. \n\n\n\n \n\nThursday\, October 5th\n\n5:30-7:30pm\n\n \n\nThe Woodward School | 1102 Hancock Street   Quincy \n\nCoffee and pastries will be provided.\n\n\n\nOur Panel of Experts\n\n \n\nDolly DiPesa\, CPA\n\nDiPesa & Company CPA's \n\nWEBSITE\n\n \n\nMarie O'Riordan Kelly\, Financial Advisor\n\nEdward Jones \n\nWEBSITE\n\n \n\nKasey Anton\, Chief Sparkle & Quick Books Expert\n\nSpark Business Consulting \n\nWEBSITE\n\n \n\nDonna Kelble\, Vice President-Branch Manager\n\nEastern Bank \n\nWEBSITE
X-ALT-DESC;FMTTYPE=text/html:<p style="margin: 0px\; padding: 0px\; caret-color: rgb(64\, 63\, 66)\; color: rgb(64\, 63\, 66)\; font-family: Arial\, Verdana\, Helvetica\, sans-serif\; font-size: 12.000000953674316px\; white-space: pre-wrap\; text-align: center\;"><span font-style:="" font-weight:="" new="" style="font-size: 27px\; color: rgb(70\, 31\, 124)\; font-family: Georgia\, " times="">A Financial Literacy Discussion</span></p>\n\n<p style="margin: 0px\; padding: 0px\; caret-color: rgb(64\, 63\, 66)\; color: rgb(64\, 63\, 66)\; font-family: Arial\, Verdana\, Helvetica\, sans-serif\; font-size: 12.000000953674316px\; white-space: pre-wrap\;">&nbsp\;</p>\n\n<p style="margin: 0px\; padding: 0px\; caret-color: rgb(64\, 63\, 66)\; color: rgb(64\, 63\, 66)\; font-family: Arial\, Verdana\, Helvetica\, sans-serif\; font-size: 12.000000953674316px\; white-space: pre-wrap\;"><span style="font-size: 17px\; color: rgb(0\, 0\, 0)\;">Please join the Quincy Women Leadership Network for our Panel of Experts to learn the five principles of financial literacy: earning\, saving\, borrowing\, spending and protecting assets. </span><br />\n<br />\n&nbsp\;</p>\n\n<p style="margin: 0px\; padding: 0px\; caret-color: rgb(64\, 63\, 66)\; color: rgb(64\, 63\, 66)\; font-family: Arial\, Verdana\, Helvetica\, sans-serif\; font-size: 12.000000953674316px\; white-space: pre-wrap\; text-align: center\;"><span style="font-size: 30px\; color: rgb(0\, 0\, 0)\; font-weight: bold\;">Thursday\, October 5th</span></p>\n\n<p style="margin: 0px\; padding: 0px\; caret-color: rgb(64\, 63\, 66)\; color: rgb(64\, 63\, 66)\; font-family: Arial\, Verdana\, Helvetica\, sans-serif\; font-size: 12.000000953674316px\; white-space: pre-wrap\; text-align: center\;"><span style="font-size: 25px\; color: rgb(0\, 0\, 0)\; font-weight: bold\;">5:30-7:30pm</span></p>\n\n<p style="margin: 0px\; padding: 0px\; caret-color: rgb(64\, 63\, 66)\; color: rgb(64\, 63\, 66)\; font-family: Arial\, Verdana\, Helvetica\, sans-serif\; font-size: 12.000000953674316px\; white-space: pre-wrap\; text-align: center\;">&nbsp\;</p>\n\n<p style="margin: 0px\; padding: 0px\; caret-color: rgb(64\, 63\, 66)\; color: rgb(64\, 63\, 66)\; font-family: Arial\, Verdana\, Helvetica\, sans-serif\; font-size: 12.000000953674316px\; white-space: pre-wrap\; text-align: center\;"><span style="font-size: 18px\; color: rgb(0\, 0\, 0)\; font-weight: bold\;">The Woodward School | 1102 Hancock Street &bull\; Quincy&#65279\;</span></p>\n\n<p style="margin: 0px\; padding: 0px\; caret-color: rgb(64\, 63\, 66)\; color: rgb(64\, 63\, 66)\; font-family: Arial\, Verdana\, Helvetica\, sans-serif\; font-size: 12.000000953674316px\; white-space: pre-wrap\; text-align: center\;"><span font-style:="" new="" style="font-size: 14px\; color: rgb(0\, 0\, 0)\; font-family: Georgia\, " times="">Coffee and pastries will be provided.<br />\n<br />\n<em><span style="font-size:24px\;">Our Panel of Experts</span></em></span><br />\n&nbsp\;</p>\n\n<p style="margin: 0px\; padding: 0px\; caret-color: rgb(64\, 63\, 66)\; color: rgb(64\, 63\, 66)\; font-family: Arial\, Verdana\, Helvetica\, sans-serif\; font-size: 12.000000953674316px\; white-space: pre-wrap\; text-align: center\;"><span style="font-size:18px\;"><span style="font-family:arial\;"><span style="color: rgb(0\, 0\, 0)\; font-weight: bold\;">Dolly DiPesa\, </span><span style="color: rgb(0\, 0\, 0)\;">CPA</span></span></span></p>\n\n<p style="margin: 0px\; padding: 0px\; caret-color: rgb(64\, 63\, 66)\; color: rgb(64\, 63\, 66)\; font-family: Arial\, Verdana\, Helvetica\, sans-serif\; font-size: 12.000000953674316px\; white-space: pre-wrap\; text-align: center\;"><span style="font-size:18px\;"><span style="font-family:arial\;"><span style="color: rgb(0\, 0\, 0)\;">DiPesa &amp\; Company CPA&rsquo\;s </span></span></span></p>\n\n<p style="margin: 0px\; padding: 0px\; caret-color: rgb(64\, 63\, 66)\; color: rgb(64\, 63\, 66)\; font-family: Arial\, Verdana\, Helvetica\, sans-serif\; font-size: 12.000000953674316px\; white-space: pre-wrap\; text-align: center\;"><span style="font-size:18px\;"><span style="font-family:arial\;"><a data-link-type="web" href="http://www.dipesacpa.com/" style="color: rgb(0\, 0\, 0)\; font-size: 14px\;" target="_blank">WEBSITE</a></span></span><br />\n&nbsp\;</p>\n\n<p style="margin: 0px\; padding: 0px\; caret-color: rgb(64\, 63\, 66)\; color: rgb(64\, 63\, 66)\; font-family: Arial\, Verdana\, Helvetica\, sans-serif\; font-size: 12.000000953674316px\; white-space: pre-wrap\; text-align: center\;"><span style="font-size:18px\;"><span style="font-family:arial\;"><span style="color: rgb(0\, 0\, 0)\; font-weight: bold\;">Marie O&#39\;Riordan Kelly\, </span><span style="color: rgb(0\, 0\, 0)\;">Financial Advisor</span></span></span></p>\n\n<p style="margin: 0px\; padding: 0px\; caret-color: rgb(64\, 63\, 66)\; color: rgb(64\, 63\, 66)\; font-family: Arial\, Verdana\, Helvetica\, sans-serif\; font-size: 12.000000953674316px\; white-space: pre-wrap\; text-align: center\;"><span style="font-size:18px\;"><span style="font-family:arial\;"><span style="color: rgb(0\, 0\, 0)\;">Edward Jones&nbsp\;</span></span></span></p>\n\n<p style="margin: 0px\; padding: 0px\; caret-color: rgb(64\, 63\, 66)\; color: rgb(64\, 63\, 66)\; font-family: Arial\, Verdana\, Helvetica\, sans-serif\; font-size: 12.000000953674316px\; white-space: pre-wrap\; text-align: center\;"><span style="font-size:18px\;"><span style="font-family:arial\;"><a data-link-type="web" href="http://www.edwardjones.com/us-en/financial-advisor/marie-o'riordankelly" style="color: rgb(0\, 0\, 0)\; font-size: 14px\;" target="_blank">WEBSITE</a></span></span><br />\n&nbsp\;</p>\n\n<p style="margin: 0px\; padding: 0px\; caret-color: rgb(64\, 63\, 66)\; color: rgb(64\, 63\, 66)\; font-family: Arial\, Verdana\, Helvetica\, sans-serif\; font-size: 12.000000953674316px\; white-space: pre-wrap\; text-align: center\;"><span style="font-size:18px\;"><span style="font-family:arial\;"><span style="color: rgb(0\, 0\, 0)\; font-weight: bold\;">Kasey Anton\, </span><span style="color: rgb(0\, 0\, 0)\;">Chief Sparkle &amp\; Quick Books Expert</span></span></span></p>\n\n<p style="margin: 0px\; padding: 0px\; caret-color: rgb(64\, 63\, 66)\; color: rgb(64\, 63\, 66)\; font-family: Arial\, Verdana\, Helvetica\, sans-serif\; font-size: 12.000000953674316px\; white-space: pre-wrap\; text-align: center\;"><span style="font-size:18px\;"><span style="font-family:arial\;"><span style="color: rgb(0\, 0\, 0)\;">Spark Business Consulting&nbsp\;</span></span></span></p>\n\n<p style="margin: 0px\; padding: 0px\; caret-color: rgb(64\, 63\, 66)\; color: rgb(64\, 63\, 66)\; font-family: Arial\, Verdana\, Helvetica\, sans-serif\; font-size: 12.000000953674316px\; white-space: pre-wrap\; text-align: center\;"><span style="font-size:18px\;"><span style="font-family:arial\;"><a data-link-type="web" href="http://www.sparkbusinessconsulting.com/" style="color: rgb(0\, 0\, 0)\; font-size: 14px\;" target="_blank">WEBSITE</a></span></span><br />\n&nbsp\;</p>\n\n<p style="margin: 0px\; padding: 0px\; caret-color: rgb(64\, 63\, 66)\; color: rgb(64\, 63\, 66)\; font-family: Arial\, Verdana\, Helvetica\, sans-serif\; font-size: 12.000000953674316px\; white-space: pre-wrap\; text-align: center\;"><span style="font-size:18px\;"><span style="font-family:arial\;"><span style="color: rgb(0\, 0\, 0)\; font-weight: bold\;">Donna Kelble\, </span><span style="color: rgb(0\, 0\, 0)\;">Vice President-Branch Manager</span></span></span></p>\n\n<p style="margin: 0px\; padding: 0px\; caret-color: rgb(64\, 63\, 66)\; color: rgb(64\, 63\, 66)\; font-family: Arial\, Verdana\, Helvetica\, sans-serif\; font-size: 12.000000953674316px\; white-space: pre-wrap\; text-align: center\;"><span style="font-size:18px\;"><span style="font-family:arial\;"><span style="color: rgb(0\, 0\, 0)\;">Eastern Bank&nbsp\;</span></span></span></p>\n\n<p style="margin: 0px\; padding: 0px\; caret-color: rgb(64\, 63\, 66)\; color: rgb(64\, 63\, 66)\; font-family: Arial\, Verdana\, Helvetica\, sans-serif\; font-size: 12.000000953674316px\; white-space: pre-wrap\; text-align: center\;"><span style="font-size:18px\;"><span style="font-family:arial\;"><a data-link-type="web" href="http://www.easternbank.com/" style="color: rgb(0\, 0\, 0)\; font-size: 14px\;" target="_blank">WEBSITE</a></span></span></p>\n\n<p style="margin: 0px\; padding: 0px\; caret-color: rgb(64\, 63\, 66)\; color: rgb(64\, 63\, 66)\; font-family: Arial\, Verdana\, Helvetica\, sans-serif\; font-size: 12.000000953674316px\; white-space: pre-wrap\; text-align: center\;">&nbsp\;</p>\n\n<p style="margin: 0px\; padding: 0px\; caret-color: rgb(64\, 63\, 66)\; color: rgb(64\, 63\, 66)\; font-family: Arial\, Verdana\, Helvetica\, sans-serif\; font-size: 12.000000953674316px\; white-space: pre-wrap\; text-align: center\;">&nbsp\;</p>\n\n<p style="margin: 0px\; padding: 0px\; caret-color: rgb(64\, 63\, 66)\; color: rgb(64\, 63\, 66)\; font-family: Arial\, Verdana\, Helvetica\, sans-serif\; font-size: 12.000000953674316px\; white-space: pre-wrap\; text-align: center\;">&nbsp\;</p>\n
LOCATION:The Woodward School 1102 Hancock Street Quincy\, MA 02169
UID:e.2259.3441
SEQUENCE:3
DTSTAMP:20260424T170533Z
URL:https://business.thequincychamber.com/events/details/quincy-s-women-s-leadership-network-event-3441
END:VEVENT

END:VCALENDAR
