BEGIN:VCALENDAR
VERSION:2.0
PRODID:-//ChamberMaster//Event Calendar 2.0//EN
METHOD:PUBLISH
X-PUBLISHED-TTL:P3D
REFRESH-INTERVAL:P3D
CALSCALE:GREGORIAN
BEGIN:VEVENT
DTSTART:20210806T160000Z
DTEND:20210806T210000Z
X-MICROSOFT-CDO-ALLDAYEVENT:FALSE
SUMMARY:Quincy Farmers Market
DESCRIPTION:The Quincy Farmers Market is changing their location from Pageant Field to Kilroy Square! Many local farmers will line this beautiful space\, conveniently located for residents and businesses. Stop by on your lunch break or before heading home!\n\n\n\nList of Farmers to be added soon!\n\n\n\nNoon - 5:00 PM\n\nOutdoor\, rain or shine
X-ALT-DESC;FMTTYPE=text/html:<p><span style="caret-color: rgb(0\, 0\, 0)\; color: rgb(0\, 0\, 0)\; font-family: Arial\, Verdana\, Helvetica\, sans-serif\; font-size: 14px\;">The Quincy Farmers Market is changing their location from Pageant Field to Kilroy Square! Many local farmers will line this beautiful space\, conveniently located for residents and businesses. Stop by on your lunch break or before heading home!<br />\n<br />\nList of Farmers to be added soon!</span><br />\n<br />\nNoon - 5:00 PM<br />\nOutdoor\, rain or shine</p>\n
LOCATION:Kilroy Square 25 Cottage Avenue (next to The Fours)
UID:e.2259.3067
SEQUENCE:3
DTSTAMP:20260424T043624Z
URL:https://business.thequincychamber.com/events/details/quincy-farmers-market-08-06-2021-3067
END:VEVENT

END:VCALENDAR
