BEGIN:VCALENDAR
VERSION:2.0
PRODID:-//ChamberMaster//Event Calendar 2.0//EN
METHOD:PUBLISH
X-PUBLISHED-TTL:P3D
REFRESH-INTERVAL:P3D
CALSCALE:GREGORIAN
BEGIN:VEVENT
DTSTART:20210909T210000Z
DTEND:20210909T230000Z
X-MICROSOFT-CDO-ALLDAYEVENT:FALSE
SUMMARY:POSTPONED: S.W.A.P.- Kilroy Square
DESCRIPTION:*EVENT CANCELLED /POSTPONED due to rain*\n\nRescheduled date TBD.\n\nIn-Person Socializing With A Purpose (S.W.A.P.) After Hours is back!\n\n\n\nWe are excited to have you join us for an After Hours at Kilroy Square along with Widowmaker Brewing Quincy Square Beer Garden.
X-ALT-DESC;FMTTYPE=text/html:<strong><span style="background:white\;"><span style="color:#FF0000\;"><span style="font-family:arial\,sans-serif\;"><span style="font-size:15.0pt\;">*EVENT CANCELLED /POSTPONED due to rain*<br />\nRescheduled date TBD.</span></span></span><br />\n<span style="color:#005972\;"><span style="font-family:arial\,sans-serif\;"><span style="font-size:15.0pt\;">In-Person Socializing With A Purpose (S.W.A.P.) After Hours is back!</span></span></span></span></strong><br />\n<br />\n<span style="color:black\;"><span style="font-family:arial\,sans-serif\;"><span style="font-size:10.5pt\;">We are excited to have you join us for an After Hours at Kilroy Square along with Widowmaker Brewing Quincy Square Beer Garden.</span></span></span>
LOCATION:Kilroy Square 25 Cottage Avenue Thursday\, September 9th from 5-7pm
UID:e.2259.3104
SEQUENCE:3
DTSTAMP:20260424T020941Z
URL:https://business.thequincychamber.com/events/details/postponed-s-w-a-p-kilroy-square-3104
END:VEVENT

END:VCALENDAR
