BEGIN:VCALENDAR
VERSION:2.0
PRODID:-//ChamberMaster//Event Calendar 2.0//EN
METHOD:PUBLISH
X-PUBLISHED-TTL:P3D
REFRESH-INTERVAL:P3D
CALSCALE:GREGORIAN
BEGIN:VEVENT
DTSTART:20210511T213000Z
DTEND:20210511T221500Z
X-MICROSOFT-CDO-ALLDAYEVENT:FALSE
SUMMARY:Moving Up to Middle School
DESCRIPTION:Register Here: https://www.thewoodwardschool.org/StudentMeetupReg...
X-ALT-DESC;FMTTYPE=text/html:Register Here: https://www.thewoodwardschool.org/StudentMeetupReg...
LOCATION:
UID:e.2259.3053
SEQUENCE:3
DTSTAMP:20260424T065054Z
URL:https://business.thequincychamber.com/events/details/moving-up-to-middle-school-3053
END:VEVENT

END:VCALENDAR
