BEGIN:VCALENDAR
VERSION:2.0
PRODID:-//ChamberMaster//Event Calendar 2.0//EN
METHOD:PUBLISH
X-PUBLISHED-TTL:P3D
REFRESH-INTERVAL:P3D
CALSCALE:GREGORIAN
BEGIN:VEVENT
DTSTART:20230908T123000Z
DTEND:20230908T130000Z
X-MICROSOFT-CDO-ALLDAYEVENT:FALSE
SUMMARY:Morning Brew with You
DESCRIPTION:Guest Speaker:\n\nRyan Crandall\, Chief Revenue Officer\n\nMariMed\, Inc. | Panacea\n\n\n\nRyan will go through an overview of the cannabis market\, products from MariMed's Panacea Wellness dispensary in Quincy\, and how to register as a medical cannabis patient.\n\n\n\nSponsored by South Shore Bank and Dunkin' (Quincy Locations)
X-ALT-DESC;FMTTYPE=text/html:<h2 helvetica="" style="margin: 0px\; font-stretch: normal\; line-height: normal\; font-family: "><span style="font-family:arial\;"><span style="font-size:16px\;"><span font-size:="" helvetica="" style="caret-color: rgb(35\, 35\, 51)\; color: rgb(35\, 35\, 51)\; font-family: " white-space:="">Guest Speaker:<br />\nRyan Crandall\, Chief Revenue Officer<br />\nMariMed\, Inc. | Panacea<br />\n<br />\nRyan will go through an overview of the cannabis market\, products from MariMed&#39\;s Panacea Wellness dispensary in Quincy\, and how to register as a medical cannabis patient.</span><br almaden="" font-size:="" letter-spacing:="" style="box-sizing: border-box\; padding: 0px\; margin: 0px\; caret-color: rgb(35\, 35\, 51)\; color: rgb(35\, 35\, 51)\; font-family: " />\n<br almaden="" font-size:="" letter-spacing:="" style="box-sizing: border-box\; padding: 0px\; margin: 0px\; caret-color: rgb(35\, 35\, 51)\; color: rgb(35\, 35\, 51)\; font-family: " />\n<span almaden="" font-size:="" letter-spacing:="" style="caret-color: rgb(35\, 35\, 51)\; color: rgb(35\, 35\, 51)\; font-family: ">Sponsored by South Shore Bank and Dunkin&#39\; (Quincy Locations)</span></span></span></h2>\n
LOCATION:Virtual Zoom Webinar
UID:e.2259.3437
SEQUENCE:3
DTSTAMP:20260424T214601Z
URL:https://business.thequincychamber.com/events/details/morning-brew-with-you-3437
END:VEVENT

END:VCALENDAR
