BEGIN:VCALENDAR
VERSION:2.0
PRODID:-//ChamberMaster//Event Calendar 2.0//EN
METHOD:PUBLISH
X-PUBLISHED-TTL:P3D
REFRESH-INTERVAL:P3D
CALSCALE:GREGORIAN
BEGIN:VEVENT
DTSTART:20230714T123000Z
DTEND:20230714T130000Z
X-MICROSOFT-CDO-ALLDAYEVENT:FALSE
SUMMARY:Morning Brew with You
DESCRIPTION:Sheriff Patrick McDermott is the High Sheriff of Norfolk County. Join us as he visits with Morning Brew to discuss the importance of developing strong partnerships between the Sheriff's Office and community businesses and organizations. Learn how the Sheriff's Office works closely with local business\, labor groups\, and non-profits to build investment in public safety for Norfolk County and its residents\, towns\, and business community.\n\n\n\nGuest Speaker:\n\nSheriff Patrick McDermot\n\nNorfolk Country Sheriff's Office\n\n\n\nSponsored by South Shore Bank and Dunkin' (Quincy Locations)
X-ALT-DESC;FMTTYPE=text/html:<p style="margin: 0px\; font-stretch: normal\; line-height: normal\; font-family: &quot\;Helvetica Neue&quot\;\;"><span style="caret-color: rgb(35\, 35\, 51)\; color: rgb(35\, 35\, 51)\; font-family: &quot\;Almaden Sans&quot\;\, Helvetica\, Arial\; font-size: 14px\; letter-spacing: 0.41999998688697815px\;">Sheriff Patrick McDermott is the High Sheriff of Norfolk County. Join us as he visits with Morning Brew to discuss the importance of developing strong partnerships between the Sheriff&rsquo\;s Office and community businesses and organizations. Learn how the Sheriff&rsquo\;s Office works closely with local business\, labor groups\, and non-profits to build investment in public safety for Norfolk County and its residents\, towns\, and business community.</span><br />\n<br style="box-sizing: border-box\; padding: 0px\; margin: 0px\; caret-color: rgb(35\, 35\, 51)\; color: rgb(35\, 35\, 51)\; font-family: &quot\;Almaden Sans&quot\;\, Helvetica\, Arial\; font-size: 14px\; letter-spacing: 0.41999998688697815px\;" />\n<span style="caret-color: rgb(35\, 35\, 51)\; color: rgb(35\, 35\, 51)\; font-family: &quot\;Almaden Sans&quot\;\, Helvetica\, Arial\; font-size: 14px\; letter-spacing: 0.41999998688697815px\;">Guest Speaker:</span><br style="box-sizing: border-box\; padding: 0px\; margin: 0px\; caret-color: rgb(35\, 35\, 51)\; color: rgb(35\, 35\, 51)\; font-family: &quot\;Almaden Sans&quot\;\, Helvetica\, Arial\; font-size: 14px\; letter-spacing: 0.41999998688697815px\;" />\n<span style="caret-color: rgb(35\, 35\, 51)\; color: rgb(35\, 35\, 51)\; font-family: &quot\;Almaden Sans&quot\;\, Helvetica\, Arial\; font-size: 14px\; letter-spacing: 0.41999998688697815px\;">Sheriff Patrick McDermot</span><br style="box-sizing: border-box\; padding: 0px\; margin: 0px\; caret-color: rgb(35\, 35\, 51)\; color: rgb(35\, 35\, 51)\; font-family: &quot\;Almaden Sans&quot\;\, Helvetica\, Arial\; font-size: 14px\; letter-spacing: 0.41999998688697815px\;" />\nNorfolk Country Sheriff&#39\;s Office<br style="box-sizing: border-box\; padding: 0px\; margin: 0px\; caret-color: rgb(35\, 35\, 51)\; color: rgb(35\, 35\, 51)\; font-family: &quot\;Almaden Sans&quot\;\, Helvetica\, Arial\; font-size: 14px\; letter-spacing: 0.41999998688697815px\;" />\n<br style="box-sizing: border-box\; padding: 0px\; margin: 0px\; caret-color: rgb(35\, 35\, 51)\; color: rgb(35\, 35\, 51)\; font-family: &quot\;Almaden Sans&quot\;\, Helvetica\, Arial\; font-size: 14px\; letter-spacing: 0.41999998688697815px\;" />\n<span style="caret-color: rgb(35\, 35\, 51)\; color: rgb(35\, 35\, 51)\; font-family: &quot\;Almaden Sans&quot\;\, Helvetica\, Arial\; font-size: 14px\; letter-spacing: 0.41999998688697815px\;">Sponsored by South Shore Bank and Dunkin&#39\; (Quincy Locations)</span></p>\n
LOCATION:Virtual Zoom Webinar
UID:e.2259.3426
SEQUENCE:3
DTSTAMP:20260425T001615Z
URL:https://business.thequincychamber.com/events/details/morning-brew-with-you-3426
END:VEVENT

END:VCALENDAR
