BEGIN:VCALENDAR
VERSION:2.0
PRODID:-//ChamberMaster//Event Calendar 2.0//EN
METHOD:PUBLISH
X-PUBLISHED-TTL:P3D
REFRESH-INTERVAL:P3D
CALSCALE:GREGORIAN
BEGIN:VEVENT
DTSTART:20221216T133000Z
DTEND:20221216T140000Z
X-MICROSOFT-CDO-ALLDAYEVENT:FALSE
SUMMARY:Morning Brew with You
DESCRIPTION:Mental Health and the Employee Assistance that is offered at Modern Assistance Programs will be discussed.\n\n\n\nGuest Speaker:\n\nMichael Gamsby\, Program Director\, LICSW\, LADC I\, CCFC\n\nModern Assistance Programs\n\n\n\nSponsored by \n\nSouth Shore Bank and Dunkin' Quincy Locations
X-ALT-DESC;FMTTYPE=text/html:<p style="margin: 0px\; font-stretch: normal\; line-height: normal\; font-family: &quot\;Helvetica Neue&quot\;\;">Mental Health and the Employee Assistance that is offered at Modern Assistance Programs will be discussed.<br />\n<br />\nGuest Speaker:<br />\nMichael Gamsby\, Program Director\, LICSW\, LADC I\, CCFC<br />\nModern Assistance Programs</p>\n\n<p style="margin: 0px\; font-stretch: normal\; line-height: normal\; font-family: &quot\;Helvetica Neue&quot\;\;"><br style="box-sizing: border-box\; caret-color: rgb(35\, 35\, 51)\; color: rgb(35\, 35\, 51)\; font-family: Lato\, Helvetica\, Arial\; font-size: 14px\;" />\n<span style="caret-color: rgb(35\, 35\, 51)\; color: rgb(35\, 35\, 51)\; font-family: Lato\, Helvetica\, Arial\; font-size: 14px\;">Sponsored by&nbsp\;</span><br style="box-sizing: border-box\; caret-color: rgb(35\, 35\, 51)\; color: rgb(35\, 35\, 51)\; font-family: Lato\, Helvetica\, Arial\; font-size: 14px\;" />\n<span style="caret-color: rgb(35\, 35\, 51)\; color: rgb(35\, 35\, 51)\; font-family: Lato\, Helvetica\, Arial\; font-size: 14px\;">South Shore Bank and Dunkin&#39\; Quincy Locations</span></p>\n
LOCATION:Virtual Zoom Webinar
UID:e.2259.3372
SEQUENCE:3
DTSTAMP:20260423T144540Z
URL:https://business.thequincychamber.com/events/details/morning-brew-with-you-3372
END:VEVENT

END:VCALENDAR
