BEGIN:VCALENDAR
VERSION:2.0
PRODID:-//ChamberMaster//Event Calendar 2.0//EN
METHOD:PUBLISH
X-PUBLISHED-TTL:P3D
REFRESH-INTERVAL:P3D
CALSCALE:GREGORIAN
BEGIN:VEVENT
DTSTART:20210429T220000Z
DTEND:20210429T233000Z
X-MICROSOFT-CDO-ALLDAYEVENT:FALSE
SUMMARY:MASKerade for Mental Health
DESCRIPTION:Virtual Event benefiting Maria Droste Counseling Services - MASKerade for Mental Health - Because the Mental Health Crisis Did Not Get Canceled!
X-ALT-DESC;FMTTYPE=text/html:Virtual Event benefiting Maria Droste Counseling Services - MASKerade for Mental Health - Because the Mental Health Crisis Did Not Get Canceled!
LOCATION:Virtual
UID:e.2259.3045
SEQUENCE:3
DTSTAMP:20260424T092514Z
URL:https://business.thequincychamber.com/events/details/maskerade-for-mental-health-3045
END:VEVENT

END:VCALENDAR
