BEGIN:VCALENDAR
VERSION:2.0
PRODID:-//ChamberMaster//Event Calendar 2.0//EN
METHOD:PUBLISH
X-PUBLISHED-TTL:P3D
REFRESH-INTERVAL:P3D
CALSCALE:GREGORIAN
BEGIN:VEVENT
DTSTART:20210414T160000Z
DTEND:20210414T163000Z
X-MICROSOFT-CDO-ALLDAYEVENT:FALSE
SUMMARY:Lunchtime Stew with You
DESCRIPTION:Lunchtime Stew with You and Guest Speakers\, Simpletek and Wave Technologies\n\n\n\nThey will share with us how they had to change and adapt to effectively manage their business clients technology and keep them running smoothly.\n\n\n\nGuest Speakers:\n\nJerry Forde\, Owner & CEO\, Simpletek \n\nJerry O'Dwyer\, Owner & CEO\, Wave Technologies\n\n\n\nSponsored by:\n\nEllis Realty Advisors // Feenan Financial Group // Key Realty\n\nSenior Resource Center // City of Boston Credit Union
X-ALT-DESC;FMTTYPE=text/html:<div class="form-group" style="box-sizing: border-box\; margin-bottom: 15px\; margin-right: -15px\; margin-left: -15px\; caret-color: rgb(35\, 35\, 51)\; color: rgb(35\, 35\, 51)\; font-family: Lato\, Helvetica\, Arial\; font-size: 14px\;">\n<div class="content" style="box-sizing: border-box\; margin-left: 15px\;">Lunchtime Stew with You and Guest Speakers\, Simpletek and Wave Technologies<br />\n<br />\nThey will share with us how they had to change and adapt to effectively manage their business clients technology and keep them running smoothly.<br style="box-sizing: border-box\;" />\n<br style="box-sizing: border-box\;" />\nGuest Speakers:<br style="box-sizing: border-box\;" />\nJerry Forde\, Owner &amp\; CEO\, Simpletek&nbsp\;<br style="box-sizing: border-box\;" />\nJerry O&#39\;Dwyer\, Owner &amp\; CEO\, Wave Technologies<br style="box-sizing: border-box\;" />\n<br style="box-sizing: border-box\;" />\nSponsored by:<br style="box-sizing: border-box\;" />\nEllis Realty Advisors // Feenan Financial Group // Key Realty<br style="box-sizing: border-box\;" />\nSenior Resource Center // City of Boston Credit Union</div>\n</div>\n
LOCATION:
UID:e.2259.3050
SEQUENCE:3
DTSTAMP:20260424T082100Z
URL:https://business.thequincychamber.com/events/details/lunchtime-stew-with-you-3050
END:VEVENT

END:VCALENDAR
