BEGIN:VCALENDAR
VERSION:2.0
PRODID:-//ChamberMaster//Event Calendar 2.0//EN
METHOD:PUBLISH
X-PUBLISHED-TTL:P3D
REFRESH-INTERVAL:P3D
CALSCALE:GREGORIAN
BEGIN:VEVENT
DTSTART;VALUE=DATE:20260601
DTEND;VALUE=DATE:20260602
TRANSP:TRANSPARENT
X-MICROSOFT-CDO-ALLDAYEVENT:TRUE
SUMMARY:Golf Tournament 2026
DESCRIPTION:Save the date for Monday\, June 1st for our 2026 Quincy Chamber Golf Tournament at Presidents Golf Course! Shotgun start at 7:30am (registration check-in will open at 6:30am- assorted muffins\, bagels\, breakfast sandwiches & coffee available). Following golf\, a BBQ lunch will be served along with announcing the contest winners and raffles!\n\nWe appreciate your support and participation\, either by golfing\, networking or through a sponsorship!\n\n \n\nFOURSOME FEE: $700   /   SINGLE GOLFER: $175\n\nNETWORKING RECEPTION INDIVIDUAL TICKET $50 (arrival 11:45am) \n\n\n\nSPONSORSHIP OPPORTUNITIES:\n\nPlease contact Celia at chussey@thequincychamber.com for more information.\n\n$3\,500 Event Sponsor \n\nLarge banner displayed at the lunch reception. Sponsorship recognition on table top signage. The main giveaway gift will include your logo. Company name on QCC website. Company name and logo on social media shout-out.  Includes foursome team. \n\n\n\n$2\,000 Breakfast & Lunch Sponsors \n\nSignage with Sponsor Logo displayed at lunch. Sponsorship recognition on table top signage.  Company name on QCC website. Company name and logo on social media shout-out.  Includes foursome team. \n\n\n\n$1\,500 Golf Ball Sponsor \n\nCompany logo printed on a sleeve of golf balls and wooden tees given to all players. Company name on QCC website. Company name and logo on social media shout-out. \n\n\n\n$1\,000 Golf Cart Sponsors \n\nSignage with company name on at least 20 golf carts.  Sponsorship recognition on table top signage. Company name on QCC website. Company name and logo on social media shout-out.  \n\n\n\n$500 Can Koozie Sponsor \n\nLogo on Can Koozies given to all players. Company name on QCC website. Company name and logo on social media shout-out. \n\n\n\n$500 Spring Water Bottle Sponsor  \n\nEach golfer receives a spring water bottle customized with sponsor logo on the label wrap. Company name on QCC website. Company name and logo on social media shout-out. \n\n\n\n$500 Longest Drive Contest Sponsor / (Men's or Women's   2 Opportunities Available)\n\nExclusive signage at a hole and reception. Company name on QCC website. Company name and logo on social media shout-out. \n\n\n\n$500 Closest to Pin Contest Sponsor /(Men's or Women's   2 Opportunities Available)\n\nExclusive signage at a hole and reception. Company name on QCC website. Company name and logo on social media shout-out.  \n\n\n\n$500 Putting Contest Sponsor / (Men's or Women's   2 Opportunities Available)\n\nExclusive signage at a hole and reception. Company name on QCC website. Company name and logo on social media shout-out. \n\n\n\n$300 Hole Sponsors \n\nSignage at one hole with your logo and QR code to your website. Company name on QCC website. Company name and logo on social media shout-out.\n\n\n\nThank you to our sponsors!
X-ALT-DESC;FMTTYPE=text/html:<p><span style="color:#000000\;"><span style="font-size:14px\;"><span style="font-size:16px\;"><span style="background-color: rgb(255\, 255\, 255)\;">Save the date for Monday\, June 1st for our 2026&nbsp\;Quincy Chamber Golf Tournament&nbsp\;at Presidents Golf Course!&nbsp\;<em><strong>Shotgun start at 7:30am</strong></em> (<em><strong>registration check-in will open&nbsp\;at 6:30am</strong></em>- assorted muffins\, bagels\, breakfast sandwiches &amp\; coffee available).&nbsp\;Following golf\, a BBQ lunch will be served along with announcing the contest winners and raffles!</span></span></span></span></p>\n\n<p><span style="color:#000000\;"><span style="font-size:14px\;"><span style="font-size:16px\;"><span style="background-color: rgb(255\, 255\, 255)\;">We appreciate your support and participation\, either by golfing\, networking&nbsp\;or through a sponsorship!</span></span></span></span><br />\n&nbsp\;</p>\n\n<p><span style="color:#000000\;"><span style="font-size:14px\;"><span style="font-size:16px\;"><span style="background-color: rgb(255\, 255\, 255)\;"><strong>FOURSOME FEE: $700&nbsp\;&nbsp\; /&nbsp\; &nbsp\;</strong></span></span></span><span style="font-size:16px\;"><strong><span style="background-color: rgb(255\, 255\, 255)\;">SINGLE GOLFER: $175</span></strong></span></span><br />\n<span style="font-size:16px\;"><strong><span style="background-color: rgb(255\, 255\, 255)\;">NETWORKING RECEPTION INDIVIDUAL TICKET $50&nbsp\;<span style="font-family:times new roman\;"><em>(arrival 11:45am)&nbsp\;</em></span></span></strong></span><br />\n<br />\n<span style="color:#009900\;"><strong><span style="font-size:16px\;"><span background-color:="" trebuchet=""><u>SPONSORSHIP OPPORT</u></span></span></strong></span><span style="color:#339900\;"><strong><span style="font-size:16px\;"><span background-color:="" trebuchet=""><u>UNIT</u></span></span></strong></span><span style="color:#009900\;"><strong><span style="font-size:16px\;"><span background-color:="" trebuchet=""><u>IES</u>:</span></span></strong></span><br />\n<span style="font-size:12px\;"><em>Please contact Celia at chussey@thequincychamber.com for more information.</em></span><br background-color:="" font-size:="" style="color: rgb(51\, 51\, 51)\; font-family: sans-serif\, Arial\, Verdana\, " trebuchet="" />\n<span style="color:#000000\;"><span style="font-size:14px\;"><span background-color:="" font-size:="" trebuchet=""><span style="font-family:arial\;"><span style="caret-color: rgb(0\, 0\, 0)\;"><strong>$3\,500 Event Sponsor&nbsp\;</strong></span></span></span></span></span><br />\n<span style="color:#000000\;"><span style="font-size:14px\;"><span background-color:="" font-size:="" trebuchet=""><span style="font-family:arial\;"><span style="caret-color: rgb(0\, 0\, 0)\;">Large banner displayed at the lunch reception. </span></span></span></span><span style="caret-color: rgb(0\, 0\, 0)\; font-family: arial\; font-size: 14px\;">Sponsorship recognition on table top&nbsp\;</span><span style="caret-color: rgb(0\, 0\, 0)\; font-family: arial\; font-size: 14px\;">signage.</span><span style="font-size:14px\;"><span background-color:="" font-size:="" trebuchet=""><span style="font-family:arial\;"><span style="caret-color: rgb(0\, 0\, 0)\;">&nbsp\;The main giveaway gift will include your logo.&nbsp\;Company name on QCC website. Company name and logo on social media shout-out.&nbsp\;&nbsp\;<em><strong>Includes foursome team.&nbsp\;</strong></em></span></span></span></span></span><br />\n<br />\n<span style="font-size: 14px\;"><span background-color:="" font-size:="" style="" trebuchet=""><span style="caret-color: rgb(0\, 0\, 0)\;"><strong style="color: rgb(0\, 0\, 0)\; font-weight: bold\;">$2\,000 Breakfast &amp\; Lunch Sponsors&nbsp\;</strong></span></span></span><br />\n<span style="color:#000000\;"><span style="font-size:14px\;"><span style="font-family:arial\;"><span style="background-color: rgb(255\, 255\, 255)\;">Signage with Sponsor Logo displayed at lunch.&nbsp\;</span></span></span><span style="caret-color: rgb(0\, 0\, 0)\; font-family: arial\; font-size: 14px\;">Sponsorship recognition on table top&nbsp\;</span><span style="caret-color: rgb(0\, 0\, 0)\; font-family: arial\; font-size: 14px\;">signage.&nbsp\;</span><span style="font-size:14px\;"><span style="font-family:arial\;"><span style="background-color: rgb(255\, 255\, 255)\;">&nbsp\;</span></span></span><span style="caret-color: rgb(0\, 0\, 0)\; font-family: arial\; font-size: 14px\;">Company name on QCC website. Company name and logo on social media shout-out.</span><span style="font-size:14px\;"><span style="font-family:arial\;"><span style="background-color: rgb(255\, 255\, 255)\;">&nbsp\;<em><strong> Includes foursome team.&nbsp\;</strong></em></span></span></span></span><br />\n<br />\n<span style="font-size: 14px\;"><span background-color:="" font-size:="" style="" trebuchet=""><span style="font-family: arial\;"><strong style=""><font color="#000000">$1\,500 Golf Ball Sponsor&nbsp\;</font></strong></span></span></span><br />\n<span style="color:#000000\;"><span style="font-size: 14px\;"><span background-color:="" font-size:="" trebuchet=""><span style="font-family: arial\;">Company logo printed on a sleeve of golf balls and wooden tees given to all players.&nbsp\;</span></span></span><span style="caret-color: rgb(0\, 0\, 0)\; font-family: arial\; font-size: 14px\;">Company name on QCC website. Company name and logo on social media shout-out.&nbsp\;</span></span><br />\n<br background-color:="" font-size:="" style="color: rgb(51\, 51\, 51)\; font-family: sans-serif\, Arial\, Verdana\, " trebuchet="" />\n<span style="color:#000000\;"><span style="font-size:14px\;"><span background-color:="" font-size:="" trebuchet=""><span style="font-family:arial\;"><strong>$1\,000 Golf Cart Sponsors</strong></span></span></span></span><b style="color: rgb(0\, 128\, 0)\; font-family: arial\; font-size: 14px\; caret-color: rgb(0\, 0\, 0)\;">&nbsp\;</b><br />\n<span style="color:#000000\;"><span style="font-size:14px\;"><span background-color:="" font-size:="" trebuchet=""><span style="font-family:arial\;">Signage with company name on at least 20 golf carts.&nbsp\; Sponsorship recognition on table top&nbsp\;signage.&nbsp\;</span></span></span><span style="caret-color: rgb(0\, 0\, 0)\; font-family: arial\; font-size: 14px\;">Company name on QCC website. Company name and logo on social media shout-out.&nbsp\;</span></span><strong><strong><font color="#009900"><span style="caret-color: rgb(0\, 0\, 0)\; font-size: 14px\;">&nbsp\;</span></font></strong></strong><br />\n<br background-color:="" font-size:="" style="color: rgb(51\, 51\, 51)\; font-family: sans-serif\, Arial\, Verdana\, " trebuchet="" />\n<span style="color:#000000\;"><span style="font-size:14px\;"><span style="font-family:arial\;"><span style="background-color: rgb(255\, 255\, 255)\;"><strong>$500 Can Koozie Sponsor&nbsp\;</strong></span></span></span></span><br />\n<span style="color:#000000\;"><span style="font-size:14px\;"><span style="font-family:arial\;"><span style="background-color: rgb(255\, 255\, 255)\;">Logo on Can Koozies given to all players. </span></span></span><span style="caret-color: rgb(0\, 0\, 0)\; font-family: arial\; font-size: 14px\;">Company name on QCC website. Company name and logo on social media shout-out.&nbsp\;</span></span><br />\n<br />\n<span style="color:#000000\;"><span style="caret-color: rgb(0\, 0\, 0)\; font-family: arial\; font-size: 14px\;"><strong>$500 Spring Water Bottle Sponsor &nbsp\;</strong></span></span><br />\n<span style="color:#000000\;"><span style="caret-color: rgb(0\, 0\, 0)\; font-family: arial\; font-size: 14px\;">Each golfer receives a spring water bottle customized with sponsor logo on the label wrap.&nbsp\;Company name on QCC website. Company name and logo on social media shout-out.&nbsp\;</span></span><br />\n<br background-color:="" font-size:="" style="color: rgb(51\, 51\, 51)\; font-family: sans-serif\, Arial\, Verdana\, " trebuchet="" />\n<span style="color:#000000\;"><span style="font-size:14px\;"><span background-color:="" font-size:="" trebuchet=""><span style="font-family:arial\;"><strong>$500 Longest Drive Contest Sponsor / </strong></span></span></span></span><span style="font-size:12px\;">(Men&rsquo\;s or Women&rsquo\;s &ndash\; 2 Opportunities Available)</span><br />\n<span style="color:#000000\;"><span style="font-size:14px\;"><span background-color:="" font-size:="" trebuchet=""><span style="font-family:arial\;">Exclusive signage at a hole and reception.&nbsp\;</span></span></span></span><span style="caret-color: rgb(0\, 0\, 0)\; color: rgb(0\, 0\, 0)\; font-family: arial\; font-size: 14px\;">Company name on QCC website. Company name and logo on social media shout-out.&nbsp\;</span><br />\n<br background-color:="" font-size:="" style="color: rgb(51\, 51\, 51)\; font-family: sans-serif\, Arial\, Verdana\, " trebuchet="" />\n<span style="color:#000000\;"><span style="font-size:14px\;"><span background-color:="" font-size:="" trebuchet=""><strong>$500 Closest to Pin Contest Sponsor /</strong></span></span></span><span style="font-size: 12px\;">(Men&rsquo\;s or Women&rsquo\;s &ndash\; 2 Opportunities Available)</span><br />\n<span style="color:#000000\;"><span style="font-size:14px\;"><span background-color:="" font-size:="" trebuchet="">Exclusive signage at a hole and reception.&nbsp\;</span></span></span><span style="caret-color: rgb(0\, 0\, 0)\; color: rgb(0\, 0\, 0)\; font-family: arial\; font-size: 14px\;">Company name on QCC website. Company name and logo on social media shout-out. </span><span style="caret-color: rgb(0\, 0\, 0)\; font-size: 14px\; text-wrap: nowrap\;"><font color="#ff0000" face="Roboto\, sans-serif"><b>&nbsp\;</b></font></span><br />\n<br background-color:="" font-size:="" style="color: rgb(51\, 51\, 51)\; font-family: sans-serif\, Arial\, Verdana\, " trebuchet="" />\n<span style="color:#000000\;"><span style="font-size:14px\;"><span background-color:="" font-size:="" trebuchet=""><strong>$500 Putting Contest Sponsor / </strong></span></span></span><span style="font-size: 12px\;">(Men&rsquo\;s or Women&rsquo\;s &ndash\; 2 Opportunities Available)</span><br />\n<span style="color:#000000\;"><span style="font-size:14px\;"><span background-color:="" font-size:="" trebuchet="">Exclusive signage at a hole and reception.&nbsp\;</span></span></span><span style="caret-color: rgb(0\, 0\, 0)\; color: rgb(0\, 0\, 0)\; font-family: arial\; font-size: 14px\;">Company name on QCC website. Company name and logo on social media shout-out.&nbsp\;</span><br />\n<br />\n<span style="font-family:arial\;"><span style="color:#000000\;"><span style="font-size:14px\;"><span background-color:="" font-size:="" trebuchet=""><strong><strong font-size:="" style="color: rgb(51\, 51\, 51)\; font-family: sans-serif\, Arial\, Verdana\, " trebuchet="">$300&nbsp\;Hole Sponsors&nbsp\;</strong></strong></span></span></span></span><br background-color:="" font-size:="" style="color: rgb(51\, 51\, 51)\; font-family: sans-serif\, Arial\, Verdana\, " trebuchet="" />\n<span background-color:="" font-size:="" trebuchet=""><font color="#000000"><span style="font-size: 14px\;">Signage at one hole with your logo and QR code to&nbsp\;</span><span style="caret-color: rgb(0\, 0\, 0)\; font-size: 14px\;">your</span><span style="font-size: 14px\;">&nbsp\;website.&nbsp\;</span></font></span><span style="caret-color: rgb(0\, 0\, 0)\; color: rgb(0\, 0\, 0)\; font-family: arial\; font-size: 14px\;">Company name on QCC website. Company name and logo on social media shout-out.</span><br />\n<br />\n<span style="font-size:24px\;"><strong><span style="color:#008000\;"><span style="caret-color: rgb(0\, 0\, 0)\; font-family: arial\;">Thank you to our sponsors!</span></span></strong></span><br />\n<br />\n<span style="display: none\;">&nbsp\;</span></p>\n
LOCATION:Presidents Golf Course 357 W Squantum Street Quincy\, MA 02171
UID:e.2259.3717
SEQUENCE:3
DTSTAMP:20260421T185955Z
URL:https://business.thequincychamber.com/events/details/golf-tournament-2026-3717
END:VEVENT

END:VCALENDAR
