BEGIN:VCALENDAR
VERSION:2.0
PRODID:-//ChamberMaster//Event Calendar 2.0//EN
METHOD:PUBLISH
X-PUBLISHED-TTL:P3D
REFRESH-INTERVAL:P3D
CALSCALE:GREGORIAN
BEGIN:VEVENT
DTSTART:20200528T200000Z
DTEND:20200529T220000Z
X-MICROSOFT-CDO-ALLDAYEVENT:FALSE
SUMMARY:Derby Academy Virtual House
DESCRIPTION:We welcome you to join our Admission's Office for a virtual look at Derby! Hear from a panel of faculty\, students\, and parents\, learn more about our distance learning program\, and join the discussion to discover how our community is continuing to "Improve Both Mind and Heart." Learn how our school has continued its curriculum and adapted to distance learning\; Meet students\, parents\, and faculty from all divisions\; Learn more about the application process\; Learn more about our campus and classrooms\; and Q&A session with our Admission's Office and Division Heads. Guests will be sent a Zoom link following registration. We'll also send out a recording of the meeting if you can't attend live on the 28th!
X-ALT-DESC;FMTTYPE=text/html:We welcome you to join our Admission&rsquo\;s Office for a virtual look at Derby! Hear from a panel of faculty\, students\, and parents\, learn more about our distance learning program\, and join the discussion to discover how our community is continuing to &ldquo\;Improve Both Mind and Heart.&rdquo\; Learn how our school has continued its curriculum and adapted to distance learning\; Meet students\, parents\, and faculty from all divisions\; Learn more about the application process\; Learn more about our campus and classrooms\; and Q&amp\;A session with our Admission&rsquo\;s Office and Division Heads. Guests will be sent a Zoom link following registration. We&#39\;ll also send out a recording of the meeting if you can&#39\;t attend live on the 28th!
LOCATION:Zoom
UID:e.2259.3017
SEQUENCE:3
DTSTAMP:20260420T174135Z
URL:https://business.thequincychamber.com/events/details/derby-academy-virtual-house-05-28-2020-3017
END:VEVENT

END:VCALENDAR
