BEGIN:VCALENDAR
VERSION:2.0
PRODID:-//ChamberMaster//Event Calendar 2.0//EN
METHOD:PUBLISH
X-PUBLISHED-TTL:P3D
REFRESH-INTERVAL:P3D
CALSCALE:GREGORIAN
BEGIN:VEVENT
DTSTART:20210614T213000Z
DTEND:20210614T233000Z
X-MICROSOFT-CDO-ALLDAYEVENT:FALSE
SUMMARY:Community Connect: Early Childhood Care & Education
DESCRIPTION:Join the Apple STEM Network\, North Central Educational Service District\, and other state and regional agencies on June 14 for a community conversation about the current state of early childhood learning and care in our region. Early childhood care and learning opportunities impact our entire region\, and we believe every member of the community has something to contribute and something to learn. Parents\, childcare providers\, community members\, and other stakeholders are invited to join this discussion about the challenges of providing accessible\, affordable and quality child care and learning in North Central Washington. Every voice is welcome and encouraged to attend this free event hosted virtually on Zoom.
X-ALT-DESC;FMTTYPE=text/html:Join the Apple STEM Network\, North Central Educational Service District\, and other state and regional agencies on June 14 for a community conversation about the current state of early childhood learning and care in our region. Early childhood care and learning opportunities impact our entire region\, and we believe every member of the community has something to contribute and something to learn. Parents\, childcare providers\, community members\, and other stakeholders are invited to join this discussion about the challenges of providing accessible\, affordable and quality child care and learning in North Central Washington. Every voice is welcome and encouraged to attend this free event hosted virtually on Zoom.
LOCATION:Online via Zoom
UID:e.2259.3059
SEQUENCE:3
DTSTAMP:20260424T071725Z
URL:https://business.thequincychamber.com/events/details/community-connect-early-childhood-care-education-3059
END:VEVENT

END:VCALENDAR
