BEGIN:VCALENDAR
VERSION:2.0
PRODID:-//ChamberMaster//Event Calendar 2.0//EN
METHOD:PUBLISH
X-PUBLISHED-TTL:P3D
REFRESH-INTERVAL:P3D
CALSCALE:GREGORIAN
BEGIN:VEVENT
DTSTART:20221214T230000Z
DTEND:20221215T040000Z
X-MICROSOFT-CDO-ALLDAYEVENT:FALSE
SUMMARY:Common Market's NIGHT OF GIVING event
DESCRIPTION:"A Night of Giving" Wednesday\, Dec. 14th from 6-11 pm at our Caf  de Paris lounge Bring a wrapped present for a boy or girl & enjoy complimentary hors d'oeuvres\, music & fun! Raffle & Prizes Night of Event (Prize donations are being accepted)
X-ALT-DESC;FMTTYPE=text/html:&ldquo\;A Night of Giving&rdquo\; Wednesday\, Dec. 14th from 6-11 pm at our Caf&eacute\; de Paris lounge Bring a wrapped present for a boy or girl &amp\; enjoy complimentary hors d&rsquo\;oeuvres\, music &amp\; fun! Raffle &amp\; Prizes Night of Event (Prize donations are being accepted)
LOCATION:Common Market Restaurants Caf de Paris lounge 97 Willard Street\, Quincy MA 02169
UID:e.2259.3371
SEQUENCE:3
DTSTAMP:20260425T105149Z
URL:https://business.thequincychamber.com/events/details/common-market-s-night-of-giving-event-3371
END:VEVENT

END:VCALENDAR
