BEGIN:VCALENDAR
VERSION:2.0
PRODID:-//ChamberMaster//Event Calendar 2.0//EN
METHOD:PUBLISH
X-PUBLISHED-TTL:P3D
REFRESH-INTERVAL:P3D
CALSCALE:GREGORIAN
BEGIN:VEVENT
DTSTART:20231206T220000Z
DTEND:20231207T000000Z
X-MICROSOFT-CDO-ALLDAYEVENT:FALSE
SUMMARY:Christmas Party 2023
DESCRIPTION:Quincy Chamber Holiday Party at Alba Restaurant!\n\nWinter After Hours: supporting DOVE\, Inc. \n\nYou are invited to our Christmas Party to kick off the holiday season!  Consider bringing check donation in support of DOVE\, Inc.'s Holiday Assistance Program which will help support specific families in need. We look forward to seeing you there!\n\n\n\nComplimentary Appetizers // Cash Bar\n\n\n\nWhile this event is free\, we do ask you to please register in advance.
X-ALT-DESC;FMTTYPE=text/html:<h2><span style="font-size:14px\;">Quincy Chamber Holiday Party at Alba Restaurant!</span></h2>\n\n<p><span style="color: rgb(21\, 21\, 21)\; font-style: italic\; font-size: 14px\; caret-color: rgb(64\, 63\, 66)\; font-family: Arial\, Verdana\, Helvetica\, sans-serif\; white-space: pre-wrap\;">Winter After Hours: supporting <a href="https://www.dovema.org">DOVE\, Inc</a>. </span><br />\n<span style="color: rgb(21\, 21\, 21)\; font-size: 14px\;">You are invited to our Christmas Party to kick off the holiday season!&nbsp\;&nbsp\;Consider&nbsp\;bringing check donation&nbsp\;in&nbsp\;support&nbsp\;of DOVE\, Inc.&#39\;s Holiday Assistance Program which will help support specific families in need.&nbsp\;We look forward to seeing you there!</span><br />\n<br />\n<span style="font-size:14px\;">Complimentary Appetizers // Cash Bar</span><br />\n<br />\n<span style="font-size:14px\;"><span style="color: rgb(21\, 21\, 21)\;">While this event is free\, we do ask you to please register in advance.</span></span></p>\n
LOCATION:ALBA Restaurant The Madison Room 1486 Hancock Street\, Quincy
UID:e.2259.3467
SEQUENCE:3
DTSTAMP:20260425T002932Z
URL:https://business.thequincychamber.com/events/details/christmas-party-2023-3467
END:VEVENT

END:VCALENDAR
