BEGIN:VCALENDAR
VERSION:2.0
PRODID:-//ChamberMaster//Event Calendar 2.0//EN
METHOD:PUBLISH
X-PUBLISHED-TTL:P3D
REFRESH-INTERVAL:P3D
CALSCALE:GREGORIAN
BEGIN:VEVENT
DTSTART:20260115T220000Z
DTEND:20260116T000000Z
X-MICROSOFT-CDO-ALLDAYEVENT:FALSE
SUMMARY:CANCELLED Winter After Hours: Assembly Restaurant
DESCRIPTION:Chamber After-Hours at The Assembly on Hancock\n\n  Assembly |    Thursday\, January 15th |   5:00 7:00 PM\n\n \n\nKick off the new year with networking\, drinks\, and great conversation at The Assembly\, a beloved Quincy neighborhood spot known for its welcoming atmosphere\, delicious chef-prepared meals\, and ice-cold beer.   \n\nJoin us for an evening of connection and community in a casual\, friendly setting. Enjoy complimentary appetizers and a cash bar while mingling with fellow Chamber members and local business leaders. This is the perfect opportunity to make new connections\, share ideas\, and strengthen your Quincy Chamber network.  \n\nEvent Details:\n\n  425 Hancock St. Quincy\, MA 02171\n\n  617-302-4987\n\n  Complimentary appetizers & cash bar\n\n  Free for Chamber Members | $15 for Non-Members\n\nSpace is limited   registration encouraged!\n\nLearn more about The Assembly: https://www.assemblyquincy.com/\n\nA Quincy neighborhood staple where there's no such thing as a stranger   just friends you haven't met yet. Enjoy a hot meal or a late-night bar menu Thursday through Sunday in a relaxed\, community-focused atmosphere.
X-ALT-DESC;FMTTYPE=text/html:<div style="">\n<p data-end="78" data-start="0"><span style="font-size:20px\;"><strong data-end="125" data-start="84">Chamber After-Hours at The Assembly on Hancock</strong></span><br data-end="128" data-start="125" />\n<span style="font-size:18px\;"><span style="font-family:arial\;">&#128205\; Assembly | &#128467\;&#65039\; Thursday\, January 15th | &#128340\; 5:00&ndash\;7:00 PM</span></span></p>\n\n<p data-end="437" data-start="196">&nbsp\;</p>\n\n<p data-end="444" data-start="227"><span style="font-size:18px\;">Kick off the new year with networking\, drinks\, and great conversation at <strong data-end="316" data-start="300">The Assembly</strong>\, a beloved Quincy neighborhood spot known for its welcoming atmosphere\, delicious chef-prepared meals\, and ice-cold beer. &#127867\;&#10024\;</span></p>\n\n<p data-end="759" data-start="446"><span style="font-size:18px\;">Join us for an evening of connection and community in a casual\, friendly setting. Enjoy complimentary appetizers and a cash bar while mingling with fellow Chamber members and local business leaders. This is the perfect opportunity to make new connections\, share ideas\, and strengthen your Quincy Chamber network. &#129309\;</span></p>\n\n<p data-end="940" data-start="772"><span style="font-size:18px\;"><span style="font-family:arial\;"><strong data-end="784" data-start="772">Event Details:</strong><br data-end="787" data-start="784" />\n&#128205\; 425 Hancock St. Quincy\, MA 02171<br data-end="823" data-start="820" />\n&#128222\; 617-302-4987<br data-end="841" data-start="838" />\n&#127860\; Complimentary appetizers &amp\; cash bar<br data-end="889" data-start="886" />\n&#128181\; Free for Chamber Members | $15 for Non-Members</span></span></p>\n\n<p data-end="987" data-start="942"><span style="font-size:18px\;"><span style="font-family:arial\;">Space is limited &mdash\; registration encouraged!</span></span></p>\n\n<p data-end="1073" data-start="989"><span style="font-size:18px\;"><span style="font-family:arial\;">Learn more about The Assembly:&nbsp\;</span>https://www.assemblyquincy.com/</span><br />\n<em>A Quincy neighborhood staple where there&rsquo\;s no such thing as a stranger &mdash\; just friends you haven&rsquo\;t met yet. Enjoy a hot meal or a late-night bar menu Thursday through Sunday in a relaxed\, community-focused atmosphere.</em></p>\n\n<p data-end="78" data-start="0">&nbsp\;</p>\n</div>\n
LOCATION:
UID:e.2259.3674
SEQUENCE:3
DTSTAMP:20260420T130413Z
URL:https://business.thequincychamber.com/events/details/cancelled-winter-after-hours-assembly-restaurant-3674
END:VEVENT

END:VCALENDAR
