BEGIN:VCALENDAR
VERSION:2.0
PRODID:-//ChamberMaster//Event Calendar 2.0//EN
METHOD:PUBLISH
X-PUBLISHED-TTL:P3D
REFRESH-INTERVAL:P3D
CALSCALE:GREGORIAN
BEGIN:VEVENT
DTSTART:20241006T160000Z
DTEND:20241006T200000Z
X-MICROSOFT-CDO-ALLDAYEVENT:FALSE
SUMMARY:Bowling Fundraiser
DESCRIPTION:Quincy Point Congregational Church (QPCC) and Boston Children's Hospital (BCH) will be collaborating to raise funds for two programs focused on the importance of sleep. A Bed for Every Child / Build a Bed (QPCC) and Safe Sleep at Home / Crib Bundles (BCH) with a Bowling Fundraiser Sunday\, October 6\, 2024 Olindy's Bowling Lanes 170 Quincy Avenue\, Quincy\, MA 12 noon - 4:00 pm $30 per person: light lunch\, bowling\, and billiards included (kids admission is free) Chances to Win Gift Baskets (10 for $20) | Boatloads of Family Fun! All Monies raised will be split between the two programs.
X-ALT-DESC;FMTTYPE=text/html:Quincy Point Congregational Church (QPCC) and Boston Children&rsquo\;s Hospital (BCH) will be collaborating to raise funds for two programs focused on the importance of sleep. A Bed for Every Child / Build a Bed (QPCC) and Safe Sleep at Home / Crib Bundles (BCH) with a Bowling Fundraiser Sunday\, October 6\, 2024 Olindy&#39\;s Bowling Lanes 170 Quincy Avenue\, Quincy\, MA 12 noon - 4:00 pm $30 per person: light lunch\, bowling\, and billiards included (kids admission is free) Chances to Win Gift Baskets (10 for $20) | Boatloads of Family Fun! All Monies raised will be split between the two programs.
LOCATION:Olindy's Bowling Lanes 170 Quincy Avenue
UID:e.2259.3515
SEQUENCE:3
DTSTAMP:20260424T234506Z
URL:https://business.thequincychamber.com/events/details/bowling-fundraiser-3515
END:VEVENT

END:VCALENDAR
