BEGIN:VCALENDAR
VERSION:2.0
PRODID:-//ChamberMaster//Event Calendar 2.0//EN
METHOD:PUBLISH
X-PUBLISHED-TTL:P3D
REFRESH-INTERVAL:P3D
CALSCALE:GREGORIAN
BEGIN:VEVENT
DTSTART:20240303T210000Z
DTEND:20240303T230000Z
X-MICROSOFT-CDO-ALLDAYEVENT:FALSE
SUMMARY:Benefit Concert for the Woodward School
DESCRIPTION:Benefit Concert for The Woodward School for Girls\n\nJoin us for an incredible evening of music and fun at The Woodward School! This in-person event is not to be missed! Get ready to groove to the beats and support a great cause. Our talented lineup of artists including\, Declan Houton and The Boston Police Pipes and Drums\, will blow you away with their performances. From classic irish music to energetic rock anthems\, there's something for everyone. Come together with friends\, family\, and music lovers alike to make a difference in the lives of girls. Let's create unforgettable memories while supporting education and empowerment. Mark your calendars and be part of this amazing Benefit Concert for The Woodward School for Girls!
X-ALT-DESC;FMTTYPE=text/html:<p style="margin: 0px\; padding: 0px\; box-sizing: border-box\; color: rgb(111\, 114\, 135)\; font-size: 16px\; line-height: 1.5rem\; font-family: &quot\;Neue Plak&quot\;\, -apple-system\, BlinkMacSystemFont\, Roboto\, &quot\;Helvetica Neue&quot\;\, Helvetica\, Tahoma\, Arial\, sans-serif\;"><span style="font-weight: 700\; box-sizing: border-box\; padding-top: 0px\;">Benefit Concert for The Woodward School for Girls</span></p>\n\n<p style="margin: 0px\; padding: 10px 0px 0px\; box-sizing: border-box\; color: rgb(111\, 114\, 135)\; font-size: 16px\; line-height: 1.5rem\; font-family: &quot\;Neue Plak&quot\;\, -apple-system\, BlinkMacSystemFont\, Roboto\, &quot\;Helvetica Neue&quot\;\, Helvetica\, Tahoma\, Arial\, sans-serif\;">Join us for an incredible evening of music and fun at&nbsp\;<span style="font-weight: 700\; box-sizing: border-box\; padding-top: 0px\;">The Woodward School</span>! This in-person event is not to be missed! Get ready to groove to the beats and support a great cause. Our talented lineup of artists including\, Declan Houton and The Boston Police Pipes and Drums\, will blow you away with their performances. From classic irish music to energetic rock anthems\, there&#39\;s something for everyone. Come together with friends\, family\, and music lovers alike to make a difference in the lives of girls. Let&#39\;s create unforgettable memories while supporting education and empowerment. Mark your calendars and be part of this amazing&nbsp\;<span style="font-weight: 700\; box-sizing: border-box\;">Benefit Concert for The Woodward School for Girls</span>!</p>\n
LOCATION:The Woodward School 1102 Hancock Street Quincy\, MA 02169
UID:e.2259.3484
SEQUENCE:3
DTSTAMP:20260420T032109Z
URL:https://business.thequincychamber.com/events/details/benefit-concert-for-the-woodward-school-3484
END:VEVENT

END:VCALENDAR
